{"text_format":"1","workbook":"xlsx","n_sheets":8,"sheets":["main","studentName","FirstPartDegrees1","FirstPartDegrees2","report1","report2","Basic","all"],"not_rendered":{"charts":0,"images":11,"macros":1,"external_links":0,"defined_names":8,"comments":0,"pivot_tables":0},"unopened":[],"bounds":{"document_bytes":16777216,"sheet_cells":100000,"rows_first":2000,"rows_last":500,"rows_between":2000,"halvings":0,"cell_chars":16384,"cell_head_chars":4096},"cells_cut":0,"cells_raw":0,"read":"whole","date_system":"1900"}

{"sheet":"main","index":0,"n_rows":0,"n_cols":0,"rows_kept":0,"cut":false,"hidden":false,"merged":[[17,5,18,8],[17,12,18,17],[20,4,21,5],[20,8,21,9],[20,11,21,12],[20,14,21,15],[20,17,21,18],[14,4,14,5],[2,2,4,17],[9,4,9,5],[10,4,10,5],[11,4,11,5],[12,1,13,2],[12,4,12,5],[13,4,13,5]]}

{"sheet":"studentName","index":1,"n_rows":0,"n_cols":0,"rows_kept":0,"cut":false,"hidden":false,"merged":[]}

{"sheet":"FirstPartDegrees1","index":2,"n_rows":148,"n_cols":8,"rows_kept":148,"cut":false,"hidden":false,"merged":[[0,2,0,7],[138,7,139,7],[140,7,141,7],[142,7,143,7],[144,7,145,7],[146,7,147,7],[128,7,129,7],[130,7,131,7],[132,7,133,7],[134,7,135,7],[136,7,137,7],[118,7,119,7],[120,7,121,7],[122,7,123,7],[124,7,125,7],[126,7,127,7],[108,7,109,7],[110,7,111,7],[112,7,113,7],[114,7,115,7],[116,7,117,7],[98,7,99,7],[100,7,101,7],[102,7,103,7],[104,7,105,7],[106,7,107,7],[88,7,89,7],[90,7,91,7],[92,7,93,7],[94,7,95,7],[96,7,97,7],[78,7,79,7],[80,7,81,7],[82,7,83,7],[84,7,85,7],[86,7,87,7],[68,7,69,7],[70,7,71,7],[72,7,73,7],[74,7,75,7],[76,7,77,7],[58,7,59,7],[60,7,61,7],[62,7,63,7],[64,7,65,7],[66,7,67,7],[48,7,49,7],[50,7,51,7],[52,7,53,7],[54,7,55,7],[56,7,57,7],[38,7,39,7],[40,7,41,7],[42,7,43,7],[44,7,45,7],[46,7,47,7],[28,7,29,7],[30,7,31,7],[32,7,33,7],[34,7,35,7],[36,7,37,7],[18,7,19,7],[20,7,21,7],[22,7,23,7],[24,7,25,7],[26,7,27,7],[8,7,9,7],[10,7,11,7],[12,7,13,7],[14,7,15,7],[16,7,17,7],[142,0,143,0],[144,0,145,0],[146,0,147,0],[132,0,133,0],[134,0,135,0],[136,0,137,0],[138,0,139,0],[140,0,141,0],[122,0,123,0],[124,0,125,0],[126,0,127,0],[128,0,129,0],[130,0,131,0],[112,0,113,0],[114,0,115,0],[116,0,117,0],[118,0,119,0],[120,0,121,0],[106,0,107,0],[108,0,109,0],[110,0,111,0],[88,0,89,0],[90,0,91,0],[92,0,93,0],[94,0,95,0],[96,0,97,0],[98,0,99,0],[100,0,101,0],[102,0,103,0],[104,0,105,0],[86,0,87,0],[84,0,85,0],[82,0,83,0],[80,0,81,0],[78,0,79,0],[64,0,65,0],[62,0,63,0],[60,0,61,0],[58,0,59,0],[66,0,67,0],[68,0,69,0],[70,0,71,0],[72,0,73,0],[74,0,75,0],[76,0,77,0],[56,0,57,0],[54,0,55,0],[52,0,53,0],[50,0,51,0],[48,0,49,0],[46,0,47,0],[44,0,45,0],[42,0,43,0],[40,0,41,0],[38,0,39,0],[36,0,37,0],[34,0,35,0],[32,0,33,0],[30,0,31,0],[28,0,29,0],[26,0,27,0],[24,0,25,0],[22,0,23,0],[20,0,21,0],[18,0,19,0],[16,0,17,0],[14,0,15,0],[12,0,13,0],[10,0,11,0],[8,0,9,0],[0,0,0,1],[1,0,1,1],[2,2,2,3],[4,2,4,3],[2,4,2,6],[3,0,7,0],[3,1,7,1],[3,2,3,3],[3,4,3,6],[4,4,4,6],[5,7,6,7]]}
[{"$f":"Basic!$B$2","v":"منطقة مبارك الكبير التعليمية"}]
[{"$f":"Basic!$B$9","v":"مدرسة : "},null,null,null,null,null,null,{"$f":"Basic!$B$8","v":"العام الدراسي : 2020-2019"}]
[null,"اسم المعلم :",{"$f":"Basic!$B$4","v":""},null,{"$f":"Basic!$B$11","v":"الفصل 4-1"},null,null,{"$f":"Basic!$B$10","v":"الفصل الدراسي الأول"}]
["م","اسم المتعلم / المتعلمة","ماهي الأجهزة الرقمية",null,"كيف تعمل اجهزتنا الرقمية؟ ( برنامج نظام التشغيل )",null,null,"مشاريع"]
[null,null,null,null,null,null,null,"تقويم بنائي"]
[null,null,"كفاية 3-1","كفاية 3-2","كفاية 1-3","كفاية 2-2","كفاية 3-3","الدرجة"]
[null,null,"النقاط","النقاط","النقاط","النقاط","النقاط"]
[null,null,4,4,4,4,4,20]
[1,{"$f":"IF(INDIRECT(ADDRESS(A9,1,1,,\"studentName\"))=0,\"\",INDIRECT(ADDRESS(A9,1,1,,\"studentName\")))","v":""}]
[null,"ملاحظات"]
[2,{"$f":"IF(INDIRECT(ADDRESS(A11,1,1,,\"studentName\"))=0,\"\",INDIRECT(ADDRESS(A11,1,1,,\"studentName\")))","v":""}]
[null,"ملاحظات"]
[3,{"$f":"IF(INDIRECT(ADDRESS(A13,1,1,,\"studentName\"))=0,\"\",INDIRECT(ADDRESS(A13,1,1,,\"studentName\")))","v":""}]
[null,"ملاحظات"]
[4,{"$f":"IF(INDIRECT(ADDRESS(A15,1,1,,\"studentName\"))=0,\"\",INDIRECT(ADDRESS(A15,1,1,,\"studentName\")))","v":""}]
[null,"ملاحظات"]
[5,{"$f":"IF(INDIRECT(ADDRESS(A17,1,1,,\"studentName\"))=0,\"\",INDIRECT(ADDRESS(A17,1,1,,\"studentName\")))","v":""}]
[null,"ملاحظات"]
[6,{"$f":"IF(INDIRECT(ADDRESS(A19,1,1,,\"studentName\"))=0,\"\",INDIRECT(ADDRESS(A19,1,1,,\"studentName\")))","v":""}]
[null,"ملاحظات"]
[7,{"$f":"IF(INDIRECT(ADDRESS(A21,1,1,,\"studentName\"))=0,\"\",INDIRECT(ADDRESS(A21,1,1,,\"studentName\")))","v":""}]
[null,"ملاحظات"]
[8,{"$f":"IF(INDIRECT(ADDRESS(A23,1,1,,\"studentName\"))=0,\"\",INDIRECT(ADDRESS(A23,1,1,,\"studentName\")))","v":""}]
[null,"ملاحظات"]
[9,{"$f":"IF(INDIRECT(ADDRESS(A25,1,1,,\"studentName\"))=0,\"\",INDIRECT(ADDRESS(A25,1,1,,\"studentName\")))","v":""}]
[null,"ملاحظات"]
[10,{"$f":"IF(INDIRECT(ADDRESS(A27,1,1,,\"studentName\"))=0,\"\",INDIRECT(ADDRESS(A27,1,1,,\"studentName\")))","v":""}]
[null,"ملاحظات"]
[11,{"$f":"IF(INDIRECT(ADDRESS(A29,1,1,,\"studentName\"))=0,\"\",INDIRECT(ADDRESS(A29,1,1,,\"studentName\")))","v":""}]
[null,"ملاحظات"]
[12,{"$f":"IF(INDIRECT(ADDRESS(A31,1,1,,\"studentName\"))=0,\"\",INDIRECT(ADDRESS(A31,1,1,,\"studentName\")))","v":""}]
[null,"ملاحظات"]
[13,{"$f":"IF(INDIRECT(ADDRESS(A33,1,1,,\"studentName\"))=0,\"\",INDIRECT(ADDRESS(A33,1,1,,\"studentName\")))","v":""}]
[null,"ملاحظات"]
[14,{"$f":"IF(INDIRECT(ADDRESS(A35,1,1,,\"studentName\"))=0,\"\",INDIRECT(ADDRESS(A35,1,1,,\"studentName\")))","v":""}]
[null,"ملاحظات"]
[15,{"$f":"IF(INDIRECT(ADDRESS(A37,1,1,,\"studentName\"))=0,\"\",INDIRECT(ADDRESS(A37,1,1,,\"studentName\")))","v":""}]
[null,"ملاحظات"]
[16,{"$f":"IF(INDIRECT(ADDRESS(A39,1,1,,\"studentName\"))=0,\"\",INDIRECT(ADDRESS(A39,1,1,,\"studentName\")))","v":""}]
[null,"ملاحظات"]
[17,{"$f":"IF(INDIRECT(ADDRESS(A41,1,1,,\"studentName\"))=0,\"\",INDIRECT(ADDRESS(A41,1,1,,\"studentName\")))","v":""}]
[null,"ملاحظات"]
[18,{"$f":"IF(INDIRECT(ADDRESS(A43,1,1,,\"studentName\"))=0,\"\",INDIRECT(ADDRESS(A43,1,1,,\"studentName\")))","v":""}]
[null,"ملاحظات"]
[19,{"$f":"IF(INDIRECT(ADDRESS(A45,1,1,,\"studentName\"))=0,\"\",INDIRECT(ADDRESS(A45,1,1,,\"studentName\")))","v":""}]
[null,"ملاحظات"]
[20,{"$f":"IF(INDIRECT(ADDRESS(A47,1,1,,\"studentName\"))=0,\"\",INDIRECT(ADDRESS(A47,1,1,,\"studentName\")))","v":""}]
[null,"ملاحظات"]
[21,{"$f":"IF(INDIRECT(ADDRESS(A49,1,1,,\"studentName\"))=0,\"\",INDIRECT(ADDRESS(A49,1,1,,\"studentName\")))","v":""}]
[null,"ملاحظات"]
[22,{"$f":"IF(INDIRECT(ADDRESS(A51,1,1,,\"studentName\"))=0,\"\",INDIRECT(ADDRESS(A51,1,1,,\"studentName\")))","v":""}]
[null,"ملاحظات"]
[23,{"$f":"IF(INDIRECT(ADDRESS(A53,1,1,,\"studentName\"))=0,\"\",INDIRECT(ADDRESS(A53,1,1,,\"studentName\")))","v":""}]
[null,"ملاحظات"]
[24,{"$f":"IF(INDIRECT(ADDRESS(A55,1,1,,\"studentName\"))=0,\"\",INDIRECT(ADDRESS(A55,1,1,,\"studentName\")))","v":""}]
[null,"ملاحظات"]
[25,{"$f":"IF(INDIRECT(ADDRESS(A57,1,1,,\"studentName\"))=0,\"\",INDIRECT(ADDRESS(A57,1,1,,\"studentName\")))","v":""}]
[null,"ملاحظات"]
[26,{"$f":"IF(INDIRECT(ADDRESS(A59,1,1,,\"studentName\"))=0,\"\",INDIRECT(ADDRESS(A59,1,1,,\"studentName\")))","v":""}]
[null,"ملاحظات"]
[27,{"$f":"IF(INDIRECT(ADDRESS(A61,1,1,,\"studentName\"))=0,\"\",INDIRECT(ADDRESS(A61,1,1,,\"studentName\")))","v":""}]
[null,"ملاحظات"]
[28,{"$f":"IF(INDIRECT(ADDRESS(A63,1,1,,\"studentName\"))=0,\"\",INDIRECT(ADDRESS(A63,1,1,,\"studentName\")))","v":""}]
[null,"ملاحظات"]
[29,{"$f":"IF(INDIRECT(ADDRESS(A65,1,1,,\"studentName\"))=0,\"\",INDIRECT(ADDRESS(A65,1,1,,\"studentName\")))","v":""}]
[null,"ملاحظات"]
[30,{"$f":"IF(INDIRECT(ADDRESS(A67,1,1,,\"studentName\"))=0,\"\",INDIRECT(ADDRESS(A67,1,1,,\"studentName\")))","v":""}]
[null,"ملاحظات"]
[31,{"$f":"IF(INDIRECT(ADDRESS(A69,1,1,,\"studentName\"))=0,\"\",INDIRECT(ADDRESS(A69,1,1,,\"studentName\")))","v":""}]
[null,"ملاحظات"]
[32,{"$f":"IF(INDIRECT(ADDRESS(A71,1,1,,\"studentName\"))=0,\"\",INDIRECT(ADDRESS(A71,1,1,,\"studentName\")))","v":""}]
[null,"ملاحظات"]
[33,{"$f":"IF(INDIRECT(ADDRESS(A73,1,1,,\"studentName\"))=0,\"\",INDIRECT(ADDRESS(A73,1,1,,\"studentName\")))","v":""}]
[null,"ملاحظات"]
[34,{"$f":"IF(INDIRECT(ADDRESS(A75,1,1,,\"studentName\"))=0,\"\",INDIRECT(ADDRESS(A75,1,1,,\"studentName\")))","v":""}]
[null,"ملاحظات"]
[35,{"$f":"IF(INDIRECT(ADDRESS(A77,1,1,,\"studentName\"))=0,\"\",INDIRECT(ADDRESS(A77,1,1,,\"studentName\")))","v":""}]
[null,"ملاحظات"]
[36,{"$f":"IF(INDIRECT(ADDRESS(A79,1,1,,\"studentName\"))=0,\"\",INDIRECT(ADDRESS(A79,1,1,,\"studentName\")))","v":""}]
[null,"ملاحظات"]
[37,{"$f":"IF(INDIRECT(ADDRESS(A81,1,1,,\"studentName\"))=0,\"\",INDIRECT(ADDRESS(A81,1,1,,\"studentName\")))","v":""}]
[null,"ملاحظات"]
[38,{"$f":"IF(INDIRECT(ADDRESS(A83,1,1,,\"studentName\"))=0,\"\",INDIRECT(ADDRESS(A83,1,1,,\"studentName\")))","v":""}]
[null,"ملاحظات"]
[39,{"$f":"IF(INDIRECT(ADDRESS(A85,1,1,,\"studentName\"))=0,\"\",INDIRECT(ADDRESS(A85,1,1,,\"studentName\")))","v":""}]
[null,"ملاحظات"]
[40,{"$f":"IF(INDIRECT(ADDRESS(A87,1,1,,\"studentName\"))=0,\"\",INDIRECT(ADDRESS(A87,1,1,,\"studentName\")))","v":""}]
[null,"ملاحظات"]
[41,{"$f":"IF(INDIRECT(ADDRESS(A89,1,1,,\"studentName\"))=0,\"\",INDIRECT(ADDRESS(A89,1,1,,\"studentName\")))","v":""}]
[null,"ملاحظات"]
[42,{"$f":"IF(INDIRECT(ADDRESS(A91,1,1,,\"studentName\"))=0,\"\",INDIRECT(ADDRESS(A91,1,1,,\"studentName\")))","v":""}]
[null,"ملاحظات"]
[43,{"$f":"IF(INDIRECT(ADDRESS(A93,1,1,,\"studentName\"))=0,\"\",INDIRECT(ADDRESS(A93,1,1,,\"studentName\")))","v":""}]
[null,"ملاحظات"]
[44,{"$f":"IF(INDIRECT(ADDRESS(A95,1,1,,\"studentName\"))=0,\"\",INDIRECT(ADDRESS(A95,1,1,,\"studentName\")))","v":""}]
[null,"ملاحظات"]
[45,{"$f":"IF(INDIRECT(ADDRESS(A97,1,1,,\"studentName\"))=0,\"\",INDIRECT(ADDRESS(A97,1,1,,\"studentName\")))","v":""}]
[null,"ملاحظات"]
[46,{"$f":"IF(INDIRECT(ADDRESS(A99,1,1,,\"studentName\"))=0,\"\",INDIRECT(ADDRESS(A99,1,1,,\"studentName\")))","v":""}]
[null,"ملاحظات"]
[47,{"$f":"IF(INDIRECT(ADDRESS(A101,1,1,,\"studentName\"))=0,\"\",INDIRECT(ADDRESS(A101,1,1,,\"studentName\")))","v":""}]
[null,"ملاحظات"]
[48,{"$f":"IF(INDIRECT(ADDRESS(A103,1,1,,\"studentName\"))=0,\"\",INDIRECT(ADDRESS(A103,1,1,,\"studentName\")))","v":""}]
[null,"ملاحظات"]
[49,{"$f":"IF(INDIRECT(ADDRESS(A105,1,1,,\"studentName\"))=0,\"\",INDIRECT(ADDRESS(A105,1,1,,\"studentName\")))","v":""}]
[null,"ملاحظات"]
[50,{"$f":"IF(INDIRECT(ADDRESS(A107,1,1,,\"studentName\"))=0,\"\",INDIRECT(ADDRESS(A107,1,1,,\"studentName\")))","v":""}]
[null,"ملاحظات"]
[51,{"$f":"IF(INDIRECT(ADDRESS(A109,1,1,,\"studentName\"))=0,\"\",INDIRECT(ADDRESS(A109,1,1,,\"studentName\")))","v":""}]
[null,"ملاحظات"]
[52,{"$f":"IF(INDIRECT(ADDRESS(A111,1,1,,\"studentName\"))=0,\"\",INDIRECT(ADDRESS(A111,1,1,,\"studentName\")))","v":""}]
[null,"ملاحظات"]
[53,{"$f":"IF(INDIRECT(ADDRESS(A113,1,1,,\"studentName\"))=0,\"\",INDIRECT(ADDRESS(A113,1,1,,\"studentName\")))","v":""}]
[null,"ملاحظات"]
[54,{"$f":"IF(INDIRECT(ADDRESS(A115,1,1,,\"studentName\"))=0,\"\",INDIRECT(ADDRESS(A115,1,1,,\"studentName\")))","v":""}]
[null,"ملاحظات"]
[55,{"$f":"IF(INDIRECT(ADDRESS(A117,1,1,,\"studentName\"))=0,\"\",INDIRECT(ADDRESS(A117,1,1,,\"studentName\")))","v":""}]
[null,"ملاحظات"]
[56,{"$f":"IF(INDIRECT(ADDRESS(A119,1,1,,\"studentName\"))=0,\"\",INDIRECT(ADDRESS(A119,1,1,,\"studentName\")))","v":""}]
[null,"ملاحظات"]
[57,{"$f":"IF(INDIRECT(ADDRESS(A121,1,1,,\"studentName\"))=0,\"\",INDIRECT(ADDRESS(A121,1,1,,\"studentName\")))","v":""}]
[null,"ملاحظات"]
[58,{"$f":"IF(INDIRECT(ADDRESS(A123,1,1,,\"studentName\"))=0,\"\",INDIRECT(ADDRESS(A123,1,1,,\"studentName\")))","v":""}]
[null,"ملاحظات"]
[59,{"$f":"IF(INDIRECT(ADDRESS(A125,1,1,,\"studentName\"))=0,\"\",INDIRECT(ADDRESS(A125,1,1,,\"studentName\")))","v":""}]
[null,"ملاحظات"]
[60,{"$f":"IF(INDIRECT(ADDRESS(A127,1,1,,\"studentName\"))=0,\"\",INDIRECT(ADDRESS(A127,1,1,,\"studentName\")))","v":""}]
[null,"ملاحظات"]
[61,{"$f":"IF(INDIRECT(ADDRESS(A129,1,1,,\"studentName\"))=0,\"\",INDIRECT(ADDRESS(A129,1,1,,\"studentName\")))","v":""}]
[null,"ملاحظات"]
[62,{"$f":"IF(INDIRECT(ADDRESS(A131,1,1,,\"studentName\"))=0,\"\",INDIRECT(ADDRESS(A131,1,1,,\"studentName\")))","v":""}]
[null,"ملاحظات"]
[63,{"$f":"IF(INDIRECT(ADDRESS(A133,1,1,,\"studentName\"))=0,\"\",INDIRECT(ADDRESS(A133,1,1,,\"studentName\")))","v":""}]
[null,"ملاحظات"]
[64,{"$f":"IF(INDIRECT(ADDRESS(A135,1,1,,\"studentName\"))=0,\"\",INDIRECT(ADDRESS(A135,1,1,,\"studentName\")))","v":""}]
[null,"ملاحظات"]
[65,{"$f":"IF(INDIRECT(ADDRESS(A137,1,1,,\"studentName\"))=0,\"\",INDIRECT(ADDRESS(A137,1,1,,\"studentName\")))","v":""}]
[null,"ملاحظات"]
[66,{"$f":"IF(INDIRECT(ADDRESS(A139,1,1,,\"studentName\"))=0,\"\",INDIRECT(ADDRESS(A139,1,1,,\"studentName\")))","v":""}]
[null,"ملاحظات"]
[67,{"$f":"IF(INDIRECT(ADDRESS(A141,1,1,,\"studentName\"))=0,\"\",INDIRECT(ADDRESS(A141,1,1,,\"studentName\")))","v":""}]
[null,"ملاحظات"]
[68,{"$f":"IF(INDIRECT(ADDRESS(A143,1,1,,\"studentName\"))=0,\"\",INDIRECT(ADDRESS(A143,1,1,,\"studentName\")))","v":""}]
[null,"ملاحظات"]
[69,{"$f":"IF(INDIRECT(ADDRESS(A145,1,1,,\"studentName\"))=0,\"\",INDIRECT(ADDRESS(A145,1,1,,\"studentName\")))","v":""}]
[null,"ملاحظات"]
[70,{"$f":"IF(INDIRECT(ADDRESS(A147,1,1,,\"studentName\"))=0,\"\",INDIRECT(ADDRESS(A147,1,1,,\"studentName\")))","v":""}]
[null,"ملاحظات"]

{"sheet":"FirstPartDegrees2","index":3,"n_rows":148,"n_cols":23,"rows_kept":148,"cut":false,"hidden":false,"merged":[[144,0,145,0],[144,18,145,18],[144,16,145,16],[144,19,145,19],[144,21,145,21],[144,22,145,22],[146,0,147,0],[146,18,147,18],[146,16,147,16],[146,19,147,19],[146,21,147,21],[146,22,147,22],[144,17,145,17],[146,17,147,17],[144,20,145,20],[146,20,147,20],[144,8,145,8],[144,15,145,15],[146,8,147,8],[146,15,147,15],[140,0,141,0],[140,18,141,18],[140,16,141,16],[140,19,141,19],[140,21,141,21],[140,22,141,22],[142,0,143,0],[142,18,143,18],[142,16,143,16],[142,19,143,19],[142,21,143,21],[142,22,143,22],[140,17,141,17],[142,17,143,17],[140,20,141,20],[142,20,143,20],[140,8,141,8],[140,15,141,15],[142,8,143,8],[142,15,143,15],[136,0,137,0],[136,18,137,18],[136,16,137,16],[136,19,137,19],[136,21,137,21],[136,22,137,22],[138,0,139,0],[138,18,139,18],[138,16,139,16],[138,19,139,19],[138,21,139,21],[138,22,139,22],[136,17,137,17],[138,17,139,17],[136,20,137,20],[138,20,139,20],[136,8,137,8],[136,15,137,15],[138,8,139,8],[138,15,139,15],[132,0,133,0],[132,18,133,18],[132,16,133,16],[132,19,133,19],[132,21,133,21],[132,22,133,22],[134,0,135,0],[134,18,135,18],[134,16,135,16],[134,19,135,19],[134,21,135,21],[134,22,135,22],[132,17,133,17],[134,17,135,17],[132,20,133,20],[134,20,135,20],[132,8,133,8],[132,15,133,15],[134,8,135,8],[134,15,135,15],[128,0,129,0],[128,18,129,18],[128,16,129,16],[128,19,129,19],[128,21,129,21],[128,22,129,22],[130,0,131,0],[130,18,131,18],[130,16,131,16],[130,19,131,19],[130,21,131,21],[130,22,131,22],[128,17,129,17],[130,17,131,17],[128,20,129,20],[130,20,131,20],[128,8,129,8],[128,15,129,15],[130,8,131,8],[130,15,131,15],[124,0,125,0],[124,18,125,18],[124,16,125,16],[124,19,125,19],[124,21,125,21],[124,22,125,22],[126,0,127,0],[126,18,127,18],[126,16,127,16],[126,19,127,19],[126,21,127,21],[126,22,127,22],[124,17,125,17],[126,17,127,17],[124,20,125,20],[126,20,127,20],[124,8,125,8],[124,15,125,15],[126,8,127,8],[126,15,127,15],[120,0,121,0],[120,18,121,18],[120,16,121,16],[120,19,121,19],[120,21,121,21],[120,22,121,22],[122,0,123,0],[122,18,123,18],[122,16,123,16],[122,19,123,19],[122,21,123,21],[122,22,123,22],[120,17,121,17],[122,17,123,17],[120,20,121,20],[122,20,123,20],[120,8,121,8],[120,15,121,15],[122,8,123,8],[122,15,123,15],[116,0,117,0],[116,18,117,18],[116,16,117,16],[116,19,117,19],[116,21,117,21],[116,22,117,22],[118,0,119,0],[118,18,119,18],[118,16,119,16],[118,19,119,19],[118,21,119,21],[118,22,119,22],[116,17,117,17],[118,17,119,17],[116,20,117,20],[118,20,119,20],[116,8,117,8],[116,15,117,15],[118,8,119,8],[118,15,119,15],[112,0,113,0],[112,18,113,18],[112,16,113,16],[112,19,113,19],[112,21,113,21],[112,22,113,22],[114,0,115,0],[114,18,115,18],[114,16,115,16],[114,19,115,19],[114,21,115,21],[114,22,115,22],[112,17,113,17],[114,17,115,17],[112,20,113,20],[114,20,115,20],[112,8,113,8],[112,15,113,15],[114,8,115,8],[114,15,115,15],[108,0,109,0],[108,18,109,18],[108,16,109,16],[108,19,109,19],[108,21,109,21],[108,22,109,22],[110,0,111,0],[110,18,111,18],[110,16,111,16],[110,19,111,19],[110,21,111,21],[110,22,111,22],[108,17,109,17],[110,17,111,17],[108,20,109,20],[110,20,111,20],[108,8,109,8],[108,15,109,15],[110,8,111,8],[110,15,111,15],[104,0,105,0],[104,18,105,18],[104,16,105,16],[104,19,105,19],[104,21,105,21],[104,22,105,22],[106,0,107,0],[106,18,107,18],[106,16,107,16],[106,19,107,19],[106,21,107,21],[106,22,107,22],[104,17,105,17],[106,17,107,17],[104,20,105,20],[106,20,107,20],[104,8,105,8],[104,15,105,15],[106,8,107,8],[106,15,107,15],[100,0,101,0],[100,18,101,18],[100,16,101,16],[100,19,101,19],[100,21,101,21],[100,22,101,22],[102,0,103,0],[102,18,103,18],[102,16,103,16],[102,19,103,19],[102,21,103,21],[102,22,103,22],[100,17,101,17],[102,17,103,17],[100,20,101,20],[102,20,103,20],[100,8,101,8],[100,15,101,15],[102,8,103,8],[102,15,103,15],[96,0,97,0],[96,18,97,18],[96,16,97,16],[96,19,97,19],[96,21,97,21],[96,22,97,22],[98,0,99,0],[98,18,99,18],[98,16,99,16],[98,19,99,19],[98,21,99,21],[98,22,99,22],[96,17,97,17],[98,17,99,17],[96,20,97,20],[98,20,99,20],[96,8,97,8],[96,15,97,15],[98,8,99,8],[98,15,99,15],[92,0,93,0],[92,18,93,18],[92,16,93,16],[92,19,93,19],[92,21,93,21],[92,22,93,22],[94,0,95,0],[94,18,95,18],[94,16,95,16],[94,19,95,19],[94,21,95,21],[94,22,95,22],[92,17,93,17],[94,17,95,17],[92,20,93,20],[94,20,95,20],[92,8,93,8],[92,15,93,15],[94,8,95,8],[94,15,95,15],[88,0,89,0],[88,18,89,18],[88,16,89,16],[88,19,89,19],[88,21,89,21],[88,22,89,22],[90,0,91,0],[90,18,91,18],[90,16,91,16],[90,19,91,19],[90,21,91,21],[90,22,91,22],[88,17,89,17],[90,17,91,17],[88,20,89,20],[90,20,91,20],[76,22,77,22],[76,0,77,0],[76,18,77,18],[76,16,77,16],[76,19,77,19],[76,21,77,21],[74,22,75,22],[74,0,75,0],[74,18,75,18],[74,16,75,16],[74,19,75,19],[74,21,75,21],[74,17,75,17],[76,17,77,17],[74,20,75,20],[76,20,77,20],[74,8,75,8],[74,15,75,15],[76,8,77,8],[76,15,77,15],[72,22,73,22],[72,0,73,0],[72,18,73,18],[72,16,73,16],[72,19,73,19],[72,21,73,21],[70,22,71,22],[70,0,71,0],[70,18,71,18],[70,16,71,16],[70,19,71,19],[70,21,71,21],[70,17,71,17],[72,17,73,17],[70,20,71,20],[72,20,73,20],[70,8,71,8],[70,15,71,15],[72,8,73,8],[72,15,73,15],[68,22,69,22],[68,0,69,0],[68,18,69,18],[68,16,69,16],[68,19,69,19],[68,21,69,21],[66,22,67,22],[66,0,67,0],[66,18,67,18],[66,16,67,16],[66,19,67,19],[66,21,67,21],[66,17,67,17],[68,17,69,17],[66,20,67,20],[68,20,69,20],[66,8,67,8],[66,15,67,15],[68,8,69,8],[68,15,69,15],[64,22,65,22],[64,0,65,0],[64,18,65,18],[64,16,65,16],[64,19,65,19],[64,21,65,21],[62,22,63,22],[62,0,63,0],[62,18,63,18],[62,16,63,16],[62,19,63,19],[62,21,63,21],[62,17,63,17],[64,17,65,17],[62,20,63,20],[64,20,65,20],[62,8,63,8],[62,15,63,15],[64,8,65,8],[64,15,65,15],[60,22,61,22],[60,0,61,0],[60,18,61,18],[60,16,61,16],[60,19,61,19],[60,21,61,21],[58,22,59,22],[58,0,59,0],[58,18,59,18],[58,16,59,16],[58,19,59,19],[58,21,59,21],[58,17,59,17],[60,17,61,17],[58,20,59,20],[60,20,61,20],[58,8,59,8],[58,15,59,15],[60,8,61,8],[60,15,61,15],[56,22,57,22],[56,0,57,0],[56,18,57,18],[56,16,57,16],[56,19,57,19],[56,21,57,21],[54,22,55,22],[54,0,55,0],[54,18,55,18],[54,16,55,16],[54,19,55,19],[54,21,55,21],[54,17,55,17],[56,17,57,17],[54,20,55,20],[56,20,57,20],[54,8,55,8],[54,15,55,15],[56,8,57,8],[56,15,57,15],[52,22,53,22],[52,0,53,0],[52,18,53,18],[52,16,53,16],[52,19,53,19],[52,21,53,21],[50,22,51,22],[50,0,51,0],[50,18,51,18],[50,16,51,16],[50,19,51,19],[50,21,51,21],[50,17,51,17],[52,17,53,17],[50,20,51,20],[52,20,53,20],[50,8,51,8],[50,15,51,15],[52,8,53,8],[52,15,53,15],[48,22,49,22],[48,0,49,0],[48,18,49,18],[48,16,49,16],[48,19,49,19],[48,21,49,21],[46,22,47,22],[46,0,47,0],[46,18,47,18],[46,16,47,16],[46,19,47,19],[46,21,47,21],[46,17,47,17],[48,17,49,17],[46,20,47,20],[48,20,49,20],[46,8,47,8],[46,15,47,15],[48,8,49,8],[48,15,49,15],[44,22,45,22],[44,0,45,0],[44,18,45,18],[44,16,45,16],[44,19,45,19],[44,21,45,21],[42,22,43,22],[42,0,43,0],[42,18,43,18],[42,16,43,16],[42,19,43,19],[42,21,43,21],[42,17,43,17],[44,17,45,17],[42,20,43,20],[44,20,45,20],[42,8,43,8],[42,15,43,15],[44,8,45,8],[44,15,45,15],[40,22,41,22],[40,0,41,0],[40,18,41,18],[40,16,41,16],[40,19,41,19],[40,21,41,21],[38,22,39,22],[38,0,39,0],[38,18,39,18],[38,16,39,16],[38,19,39,19],[38,21,39,21],[38,17,39,17],[40,17,41,17],[38,20,39,20],[40,20,41,20],[38,8,39,8],[38,15,39,15],[40,8,41,8],[40,15,41,15],[36,22,37,22],[36,0,37,0],[36,18,37,18],[36,16,37,16],[36,19,37,19],[36,21,37,21],[34,22,35,22],[34,0,35,0],[34,18,35,18],[34,16,35,16],[34,19,35,19],[34,21,35,21],[34,17,35,17],[36,17,37,17],[34,20,35,20],[36,20,37,20],[34,8,35,8],[34,15,35,15],[36,8,37,8],[36,15,37,15],[32,22,33,22],[32,0,33,0],[32,18,33,18],[32,16,33,16],[32,19,33,19],[32,21,33,21],[30,22,31,22],[30,0,31,0],[30,18,31,18],[30,16,31,16],[30,19,31,19],[30,21,31,21],[30,17,31,17],[32,17,33,17],[30,20,31,20],[32,20,33,20],[30,8,31,8],[30,15,31,15],[32,8,33,8],[32,15,33,15],[28,22,29,22],[28,0,29,0],[28,18,29,18],[28,16,29,16],[28,19,29,19],[28,21,29,21],[26,22,27,22],[26,0,27,0],[26,18,27,18],[26,16,27,16],[26,19,27,19],[26,21,27,21],[26,17,27,17],[28,17,29,17],[26,20,27,20],[28,20,29,20],[26,8,27,8],[26,15,27,15],[28,8,29,8],[28,15,29,15],[24,22,25,22],[24,0,25,0],[24,18,25,18],[24,16,25,16],[24,19,25,19],[24,21,25,21],[22,22,23,22],[22,0,23,0],[22,18,23,18],[22,16,23,16],[22,19,23,19],[22,21,23,21],[22,17,23,17],[24,17,25,17],[22,20,23,20],[24,20,25,20],[22,8,23,8],[22,15,23,15],[24,8,25,8],[24,15,25,15],[20,22,21,22],[20,0,21,0],[20,18,21,18],[20,16,21,16],[20,19,21,19],[20,21,21,21],[18,22,19,22],[18,0,19,0],[18,18,19,18],[18,16,19,16],[18,19,19,19],[18,21,19,21],[18,17,19,17],[20,17,21,17],[18,20,19,20],[20,20,21,20],[18,8,19,8],[18,15,19,15],[20,8,21,8],[20,15,21,15],[16,22,17,22],[16,0,17,0],[16,18,17,18],[16,16,17,16],[16,19,17,19],[16,21,17,21],[14,22,15,22],[14,0,15,0],[14,18,15,18],[14,16,15,16],[14,19,15,19],[14,21,15,21],[14,17,15,17],[16,17,17,17],[14,20,15,20],[16,20,17,20],[14,8,15,8],[14,15,15,15],[16,8,17,8],[16,15,17,15],[12,22,13,22],[12,0,13,0],[12,18,13,18],[12,16,13,16],[12,19,13,19],[12,21,13,21],[10,22,11,22],[10,0,11,0],[10,18,11,18],[10,16,11,16],[10,19,11,19],[10,21,11,21],[10,17,11,17],[12,17,13,17],[10,20,11,20],[12,20,13,20],[10,8,11,8],[10,15,11,15],[12,8,13,8],[12,15,13,15],[8,22,9,22],[8,0,9,0],[8,18,9,18],[8,16,9,16],[8,19,9,19],[8,21,9,21],[3,0,7,0],[3,1,7,1],[3,2,3,3],[3,4,3,5],[3,11,3,12],[8,8,9,8],[8,15,9,15],[8,17,9,17],[3,16,3,18],[4,17,6,17],[4,18,6,18],[4,16,6,16],[8,20,9,20],[3,19,3,21],[4,19,6,19],[4,20,6,20],[4,21,6,21],[0,0,0,1],[1,0,1,1],[2,2,2,3],[3,22,6,22],[4,2,4,3],[4,4,4,5],[4,6,4,7],[4,9,4,10],[4,11,4,12],[4,13,4,14],[3,9,3,10],[3,6,3,7],[3,13,3,14],[6,8,7,8],[6,15,7,15],[2,7,2,9],[0,2,0,12],[78,0,79,0],[78,18,79,18],[78,16,79,16],[78,19,79,19],[78,21,79,21],[78,22,79,22],[80,0,81,0],[80,18,81,18],[80,16,81,16],[80,19,81,19],[80,21,81,21],[80,22,81,22],[78,17,79,17],[80,17,81,17],[78,20,79,20],[80,20,81,20],[78,8,79,8],[78,15,79,15],[80,8,81,8],[80,15,81,15],[86,0,87,0],[86,18,87,18],[86,16,87,16],[86,19,87,19],[86,21,87,21],[86,22,87,22],[82,0,83,0],[82,18,83,18],[82,16,83,16],[82,19,83,19],[82,21,83,21],[82,22,83,22],[84,0,85,0],[84,18,85,18],[84,16,85,16],[84,19,85,19],[84,21,85,21],[84,22,85,22],[82,17,83,17],[84,17,85,17],[86,17,87,17],[82,20,83,20],[84,20,85,20],[86,20,87,20],[82,8,83,8],[82,15,83,15],[84,8,85,8],[84,15,85,15],[86,8,87,8],[86,15,87,15],[88,8,89,8],[88,15,89,15],[90,8,91,8],[90,15,91,15]]}
[{"$f":"Basic!$B$2","v":"منطقة مبارك الكبير التعليمية"},null,"كشــــــف درجات المتعلمين في مادة تكنولوجيا المعلومات والاتصالات"]
[{"$f":"Basic!$B$9","v":"مدرسة : "},null,null,null,null,null,null,null,null,null,null,null,null,null,null,null,null,{"$f":"Basic!$B$8","v":"العام الدراسي : 2020-2019"}]
[null,"اسم المعلم :",{"$f":"Basic!$B$4","v":""},null,null,null,null,{"$f":"Basic!$B$11","v":"الفصل 4-1"},null,null,null,null,null,null,null,null,null,{"$f":"Basic!$B$10","v":"الفصل الدراسي الأول"}]
["م","اسم المتعلم / المتعلمة","لنكتب معاً ( لوحة المفاتيح )",null,"لننجز اعمالنا ( فتح وحفظ )",null,"هيا نلعب مع الصور",null,"مشاريع","لنرسم معاً ( الاشكال التلقائية )",null,"ملفاتي منسقة",null,"أنا كاتب ماهر ( علامات الترقيم )",null,"مشاريع","درجة التقييم البنائي",null,null,"درجة التقييم النهائي",null,null,"نهاية الفصل الأول"]
[null,null,null,null,null,null,null,null,"تقويم نهائي",null,null,null,null,null,null,"تقويم نهائي",null,"المشروع","المجموع","مشروع1","مشروع2","المجموع"]
[null,null,"كفاية 2-4","كفاية 2-3","كفاية 3-2","كفاية 2-1","كفاية 2-1","كفاية 1-2","الدرجة","كفاية 1-4","كفاية 2-3","كفاية 1-1","كفاية 2-2","كفاية 3-1","كفاية 2-4","الدرجة"]
[null,null,"النقاط","النقاط","النقاط","النقاط","النقاط","النقاط",20,"النقاط","النقاط","النقاط","النقاط","النقاط","النقاط",20]
[null,null,4,4,4,4,4,4,null,4,4,4,4,4,4,null,40,20,60,20,20,40,100]
[1,{"$f":"IF(INDIRECT(ADDRESS(A9,1,1,,\"studentName\"))=0,\"\",INDIRECT(ADDRESS(A9,1,1,,\"studentName\")))","v":""},null,null,null,null,null,null,null,null,null,null,null,null,null,null,{"$f":"INDIRECT(ADDRESS(A9+3,18,1,,\"All\"))","v":""},{"$f":"INDIRECT(ADDRESS(A9+3,19,1,,\"All\"))","v":""},{"$f":"INDIRECT(ADDRESS(A9+3,20,1,,\"All\"))","v":""},{"$f":"INDIRECT(ADDRESS(A9+3,21,1,,\"All\"))","v":""},{"$f":"INDIRECT(ADDRESS(A9+3,22,1,,\"All\"))","v":""},{"$f":"INDIRECT(ADDRESS(A9+3,23,1,,\"All\"))","v":""},{"$f":"INDIRECT(ADDRESS(A9+3,24,1,,\"All\"))","v":""}]
[null,"ملاحظات"]
[2,{"$f":"IF(INDIRECT(ADDRESS(A11,1,1,,\"studentName\"))=0,\"\",INDIRECT(ADDRESS(A11,1,1,,\"studentName\")))","v":""},null,null,null,null,null,null,null,null,null,null,null,null,null,null,{"$f":"INDIRECT(ADDRESS(A11+3,18,1,,\"All\"))","v":""},{"$f":"INDIRECT(ADDRESS(A11+3,19,1,,\"All\"))","v":""},{"$f":"INDIRECT(ADDRESS(A11+3,20,1,,\"All\"))","v":""},{"$f":"INDIRECT(ADDRESS(A11+3,21,1,,\"All\"))","v":""},{"$f":"INDIRECT(ADDRESS(A11+3,22,1,,\"All\"))","v":""},{"$f":"INDIRECT(ADDRESS(A11+3,23,1,,\"All\"))","v":""},{"$f":"INDIRECT(ADDRESS(A11+3,24,1,,\"All\"))","v":""}]
[null,"ملاحظات"]
[3,{"$f":"IF(INDIRECT(ADDRESS(A13,1,1,,\"studentName\"))=0,\"\",INDIRECT(ADDRESS(A13,1,1,,\"studentName\")))","v":""},null,null,null,null,null,null,null,null,null,null,null,null,null,null,{"$f":"INDIRECT(ADDRESS(A13+3,18,1,,\"All\"))","v":""},{"$f":"INDIRECT(ADDRESS(A13+3,19,1,,\"All\"))","v":""},{"$f":"INDIRECT(ADDRESS(A13+3,20,1,,\"All\"))","v":""},{"$f":"INDIRECT(ADDRESS(A13+3,21,1,,\"All\"))","v":""},{"$f":"INDIRECT(ADDRESS(A13+3,22,1,,\"All\"))","v":""},{"$f":"INDIRECT(ADDRESS(A13+3,23,1,,\"All\"))","v":""},{"$f":"INDIRECT(ADDRESS(A13+3,24,1,,\"All\"))","v":""}]
[null,"ملاحظات"]
[4,{"$f":"IF(INDIRECT(ADDRESS(A15,1,1,,\"studentName\"))=0,\"\",INDIRECT(ADDRESS(A15,1,1,,\"studentName\")))","v":""},null,null,null,null,null,null,null,null,null,null,null,null,null,null,{"$f":"INDIRECT(ADDRESS(A15+3,18,1,,\"All\"))","v":""},{"$f":"INDIRECT(ADDRESS(A15+3,19,1,,\"All\"))","v":""},{"$f":"INDIRECT(ADDRESS(A15+3,20,1,,\"All\"))","v":""},{"$f":"INDIRECT(ADDRESS(A15+3,21,1,,\"All\"))","v":""},{"$f":"INDIRECT(ADDRESS(A15+3,22,1,,\"All\"))","v":""},{"$f":"INDIRECT(ADDRESS(A15+3,23,1,,\"All\"))","v":""},{"$f":"INDIRECT(ADDRESS(A15+3,24,1,,\"All\"))","v":""}]
[null,"ملاحظات"]
[5,{"$f":"IF(INDIRECT(ADDRESS(A17,1,1,,\"studentName\"))=0,\"\",INDIRECT(ADDRESS(A17,1,1,,\"studentName\")))","v":""},null,null,null,null,null,null,null,null,null,null,null,null,null,null,{"$f":"INDIRECT(ADDRESS(A17+3,18,1,,\"All\"))","v":""},{"$f":"INDIRECT(ADDRESS(A17+3,19,1,,\"All\"))","v":""},{"$f":"INDIRECT(ADDRESS(A17+3,20,1,,\"All\"))","v":""},{"$f":"INDIRECT(ADDRESS(A17+3,21,1,,\"All\"))","v":""},{"$f":"INDIRECT(ADDRESS(A17+3,22,1,,\"All\"))","v":""},{"$f":"INDIRECT(ADDRESS(A17+3,23,1,,\"All\"))","v":""},{"$f":"INDIRECT(ADDRESS(A17+3,24,1,,\"All\"))","v":""}]
[null,"ملاحظات"]
[6,{"$f":"IF(INDIRECT(ADDRESS(A19,1,1,,\"studentName\"))=0,\"\",INDIRECT(ADDRESS(A19,1,1,,\"studentName\")))","v":""},null,null,null,null,null,null,null,null,null,null,null,null,null,null,{"$f":"INDIRECT(ADDRESS(A19+3,18,1,,\"All\"))","v":""},{"$f":"INDIRECT(ADDRESS(A19+3,19,1,,\"All\"))","v":""},{"$f":"INDIRECT(ADDRESS(A19+3,20,1,,\"All\"))","v":""},{"$f":"INDIRECT(ADDRESS(A19+3,21,1,,\"All\"))","v":""},{"$f":"INDIRECT(ADDRESS(A19+3,22,1,,\"All\"))","v":""},{"$f":"INDIRECT(ADDRESS(A19+3,23,1,,\"All\"))","v":""},{"$f":"INDIRECT(ADDRESS(A19+3,24,1,,\"All\"))","v":""}]
[null,"ملاحظات"]
[7,{"$f":"IF(INDIRECT(ADDRESS(A21,1,1,,\"studentName\"))=0,\"\",INDIRECT(ADDRESS(A21,1,1,,\"studentName\")))","v":""},null,null,null,null,null,null,null,null,null,null,null,null,null,null,{"$f":"INDIRECT(ADDRESS(A21+3,18,1,,\"All\"))","v":""},{"$f":"INDIRECT(ADDRESS(A21+3,19,1,,\"All\"))","v":""},{"$f":"INDIRECT(ADDRESS(A21+3,20,1,,\"All\"))","v":""},{"$f":"INDIRECT(ADDRESS(A21+3,21,1,,\"All\"))","v":""},{"$f":"INDIRECT(ADDRESS(A21+3,22,1,,\"All\"))","v":""},{"$f":"INDIRECT(ADDRESS(A21+3,23,1,,\"All\"))","v":""},{"$f":"INDIRECT(ADDRESS(A21+3,24,1,,\"All\"))","v":""}]
[null,"ملاحظات"]
[8,{"$f":"IF(INDIRECT(ADDRESS(A23,1,1,,\"studentName\"))=0,\"\",INDIRECT(ADDRESS(A23,1,1,,\"studentName\")))","v":""},null,null,null,null,null,null,null,null,null,null,null,null,null,null,{"$f":"INDIRECT(ADDRESS(A23+3,18,1,,\"All\"))","v":""},{"$f":"INDIRECT(ADDRESS(A23+3,19,1,,\"All\"))","v":""},{"$f":"INDIRECT(ADDRESS(A23+3,20,1,,\"All\"))","v":""},{"$f":"INDIRECT(ADDRESS(A23+3,21,1,,\"All\"))","v":""},{"$f":"INDIRECT(ADDRESS(A23+3,22,1,,\"All\"))","v":""},{"$f":"INDIRECT(ADDRESS(A23+3,23,1,,\"All\"))","v":""},{"$f":"INDIRECT(ADDRESS(A23+3,24,1,,\"All\"))","v":""}]
[null,"ملاحظات"]
[9,{"$f":"IF(INDIRECT(ADDRESS(A25,1,1,,\"studentName\"))=0,\"\",INDIRECT(ADDRESS(A25,1,1,,\"studentName\")))","v":""},null,null,null,null,null,null,null,null,null,null,null,null,null,null,{"$f":"INDIRECT(ADDRESS(A25+3,18,1,,\"All\"))","v":""},{"$f":"INDIRECT(ADDRESS(A25+3,19,1,,\"All\"))","v":""},{"$f":"INDIRECT(ADDRESS(A25+3,20,1,,\"All\"))","v":""},{"$f":"INDIRECT(ADDRESS(A25+3,21,1,,\"All\"))","v":""},{"$f":"INDIRECT(ADDRESS(A25+3,22,1,,\"All\"))","v":""},{"$f":"INDIRECT(ADDRESS(A25+3,23,1,,\"All\"))","v":""},{"$f":"INDIRECT(ADDRESS(A25+3,24,1,,\"All\"))","v":""}]
[null,"ملاحظات"]
[10,{"$f":"IF(INDIRECT(ADDRESS(A27,1,1,,\"studentName\"))=0,\"\",INDIRECT(ADDRESS(A27,1,1,,\"studentName\")))","v":""},null,null,null,null,null,null,null,null,null,null,null,null,null,null,{"$f":"INDIRECT(ADDRESS(A27+3,18,1,,\"All\"))","v":""},{"$f":"INDIRECT(ADDRESS(A27+3,19,1,,\"All\"))","v":""},{"$f":"INDIRECT(ADDRESS(A27+3,20,1,,\"All\"))","v":""},{"$f":"INDIRECT(ADDRESS(A27+3,21,1,,\"All\"))","v":""},{"$f":"INDIRECT(ADDRESS(A27+3,22,1,,\"All\"))","v":""},{"$f":"INDIRECT(ADDRESS(A27+3,23,1,,\"All\"))","v":""},{"$f":"INDIRECT(ADDRESS(A27+3,24,1,,\"All\"))","v":""}]
[null,"ملاحظات"]
[11,{"$f":"IF(INDIRECT(ADDRESS(A29,1,1,,\"studentName\"))=0,\"\",INDIRECT(ADDRESS(A29,1,1,,\"studentName\")))","v":""},null,null,null,null,null,null,null,null,null,null,null,null,null,null,{"$f":"INDIRECT(ADDRESS(A29+3,18,1,,\"All\"))","v":""},{"$f":"INDIRECT(ADDRESS(A29+3,19,1,,\"All\"))","v":""},{"$f":"INDIRECT(ADDRESS(A29+3,20,1,,\"All\"))","v":""},{"$f":"INDIRECT(ADDRESS(A29+3,21,1,,\"All\"))","v":""},{"$f":"INDIRECT(ADDRESS(A29+3,22,1,,\"All\"))","v":""},{"$f":"INDIRECT(ADDRESS(A29+3,23,1,,\"All\"))","v":""},{"$f":"INDIRECT(ADDRESS(A29+3,24,1,,\"All\"))","v":""}]
[null,"ملاحظات"]
[12,{"$f":"IF(INDIRECT(ADDRESS(A31,1,1,,\"studentName\"))=0,\"\",INDIRECT(ADDRESS(A31,1,1,,\"studentName\")))","v":""},null,null,null,null,null,null,null,null,null,null,null,null,null,null,{"$f":"INDIRECT(ADDRESS(A31+3,18,1,,\"All\"))","v":""},{"$f":"INDIRECT(ADDRESS(A31+3,19,1,,\"All\"))","v":""},{"$f":"INDIRECT(ADDRESS(A31+3,20,1,,\"All\"))","v":""},{"$f":"INDIRECT(ADDRESS(A31+3,21,1,,\"All\"))","v":""},{"$f":"INDIRECT(ADDRESS(A31+3,22,1,,\"All\"))","v":""},{"$f":"INDIRECT(ADDRESS(A31+3,23,1,,\"All\"))","v":""},{"$f":"INDIRECT(ADDRESS(A31+3,24,1,,\"All\"))","v":""}]
[null,"ملاحظات"]
[13,{"$f":"IF(INDIRECT(ADDRESS(A33,1,1,,\"studentName\"))=0,\"\",INDIRECT(ADDRESS(A33,1,1,,\"studentName\")))","v":""},null,null,null,null,null,null,null,null,null,null,null,null,null,null,{"$f":"INDIRECT(ADDRESS(A33+3,18,1,,\"All\"))","v":""},{"$f":"INDIRECT(ADDRESS(A33+3,19,1,,\"All\"))","v":""},{"$f":"INDIRECT(ADDRESS(A33+3,20,1,,\"All\"))","v":""},{"$f":"INDIRECT(ADDRESS(A33+3,21,1,,\"All\"))","v":""},{"$f":"INDIRECT(ADDRESS(A33+3,22,1,,\"All\"))","v":""},{"$f":"INDIRECT(ADDRESS(A33+3,23,1,,\"All\"))","v":""},{"$f":"INDIRECT(ADDRESS(A33+3,24,1,,\"All\"))","v":""}]
[null,"ملاحظات"]
[14,{"$f":"IF(INDIRECT(ADDRESS(A35,1,1,,\"studentName\"))=0,\"\",INDIRECT(ADDRESS(A35,1,1,,\"studentName\")))","v":""},null,null,null,null,null,null,null,null,null,null,null,null,null,null,{"$f":"INDIRECT(ADDRESS(A35+3,18,1,,\"All\"))","v":""},{"$f":"INDIRECT(ADDRESS(A35+3,19,1,,\"All\"))","v":""},{"$f":"INDIRECT(ADDRESS(A35+3,20,1,,\"All\"))","v":""},{"$f":"INDIRECT(ADDRESS(A35+3,21,1,,\"All\"))","v":""},{"$f":"INDIRECT(ADDRESS(A35+3,22,1,,\"All\"))","v":""},{"$f":"INDIRECT(ADDRESS(A35+3,23,1,,\"All\"))","v":""},{"$f":"INDIRECT(ADDRESS(A35+3,24,1,,\"All\"))","v":""}]
[null,"ملاحظات"]
[15,{"$f":"IF(INDIRECT(ADDRESS(A37,1,1,,\"studentName\"))=0,\"\",INDIRECT(ADDRESS(A37,1,1,,\"studentName\")))","v":""},null,null,null,null,null,null,null,null,null,null,null,null,null,null,{"$f":"INDIRECT(ADDRESS(A37+3,18,1,,\"All\"))","v":""},{"$f":"INDIRECT(ADDRESS(A37+3,19,1,,\"All\"))","v":""},{"$f":"INDIRECT(ADDRESS(A37+3,20,1,,\"All\"))","v":""},{"$f":"INDIRECT(ADDRESS(A37+3,21,1,,\"All\"))","v":""},{"$f":"INDIRECT(ADDRESS(A37+3,22,1,,\"All\"))","v":""},{"$f":"INDIRECT(ADDRESS(A37+3,23,1,,\"All\"))","v":""},{"$f":"INDIRECT(ADDRESS(A37+3,24,1,,\"All\"))","v":""}]
[null,"ملاحظات"]
[16,{"$f":"IF(INDIRECT(ADDRESS(A39,1,1,,\"studentName\"))=0,\"\",INDIRECT(ADDRESS(A39,1,1,,\"studentName\")))","v":""},null,null,null,null,null,null,null,null,null,null,null,null,null,null,{"$f":"INDIRECT(ADDRESS(A39+3,18,1,,\"All\"))","v":""},{"$f":"INDIRECT(ADDRESS(A39+3,19,1,,\"All\"))","v":""},{"$f":"INDIRECT(ADDRESS(A39+3,20,1,,\"All\"))","v":""},{"$f":"INDIRECT(ADDRESS(A39+3,21,1,,\"All\"))","v":""},{"$f":"INDIRECT(ADDRESS(A39+3,22,1,,\"All\"))","v":""},{"$f":"INDIRECT(ADDRESS(A39+3,23,1,,\"All\"))","v":""},{"$f":"INDIRECT(ADDRESS(A39+3,24,1,,\"All\"))","v":""}]
[null,"ملاحظات"]
[17,{"$f":"IF(INDIRECT(ADDRESS(A41,1,1,,\"studentName\"))=0,\"\",INDIRECT(ADDRESS(A41,1,1,,\"studentName\")))","v":""},null,null,null,null,null,null,null,null,null,null,null,null,null,null,{"$f":"INDIRECT(ADDRESS(A41+3,18,1,,\"All\"))","v":""},{"$f":"INDIRECT(ADDRESS(A41+3,19,1,,\"All\"))","v":""},{"$f":"INDIRECT(ADDRESS(A41+3,20,1,,\"All\"))","v":""},{"$f":"INDIRECT(ADDRESS(A41+3,21,1,,\"All\"))","v":""},{"$f":"INDIRECT(ADDRESS(A41+3,22,1,,\"All\"))","v":""},{"$f":"INDIRECT(ADDRESS(A41+3,23,1,,\"All\"))","v":""},{"$f":"INDIRECT(ADDRESS(A41+3,24,1,,\"All\"))","v":""}]
[null,"ملاحظات"]
[18,{"$f":"IF(INDIRECT(ADDRESS(A43,1,1,,\"studentName\"))=0,\"\",INDIRECT(ADDRESS(A43,1,1,,\"studentName\")))","v":""},null,null,null,null,null,null,null,null,null,null,null,null,null,null,{"$f":"INDIRECT(ADDRESS(A43+3,18,1,,\"All\"))","v":""},{"$f":"INDIRECT(ADDRESS(A43+3,19,1,,\"All\"))","v":""},{"$f":"INDIRECT(ADDRESS(A43+3,20,1,,\"All\"))","v":""},{"$f":"INDIRECT(ADDRESS(A43+3,21,1,,\"All\"))","v":""},{"$f":"INDIRECT(ADDRESS(A43+3,22,1,,\"All\"))","v":""},{"$f":"INDIRECT(ADDRESS(A43+3,23,1,,\"All\"))","v":""},{"$f":"INDIRECT(ADDRESS(A43+3,24,1,,\"All\"))","v":""}]
[null,"ملاحظات"]
[19,{"$f":"IF(INDIRECT(ADDRESS(A45,1,1,,\"studentName\"))=0,\"\",INDIRECT(ADDRESS(A45,1,1,,\"studentName\")))","v":""},null,null,null,null,null,null,null,null,null,null,null,null,null,null,{"$f":"INDIRECT(ADDRESS(A45+3,18,1,,\"All\"))","v":""},{"$f":"INDIRECT(ADDRESS(A45+3,19,1,,\"All\"))","v":""},{"$f":"INDIRECT(ADDRESS(A45+3,20,1,,\"All\"))","v":""},{"$f":"INDIRECT(ADDRESS(A45+3,21,1,,\"All\"))","v":""},{"$f":"INDIRECT(ADDRESS(A45+3,22,1,,\"All\"))","v":""},{"$f":"INDIRECT(ADDRESS(A45+3,23,1,,\"All\"))","v":""},{"$f":"INDIRECT(ADDRESS(A45+3,24,1,,\"All\"))","v":""}]
[null,"ملاحظات"]
[20,{"$f":"IF(INDIRECT(ADDRESS(A47,1,1,,\"studentName\"))=0,\"\",INDIRECT(ADDRESS(A47,1,1,,\"studentName\")))","v":""},null,null,null,null,null,null,null,null,null,null,null,null,null,null,{"$f":"INDIRECT(ADDRESS(A47+3,18,1,,\"All\"))","v":""},{"$f":"INDIRECT(ADDRESS(A47+3,19,1,,\"All\"))","v":""},{"$f":"INDIRECT(ADDRESS(A47+3,20,1,,\"All\"))","v":""},{"$f":"INDIRECT(ADDRESS(A47+3,21,1,,\"All\"))","v":""},{"$f":"INDIRECT(ADDRESS(A47+3,22,1,,\"All\"))","v":""},{"$f":"INDIRECT(ADDRESS(A47+3,23,1,,\"All\"))","v":""},{"$f":"INDIRECT(ADDRESS(A47+3,24,1,,\"All\"))","v":""}]
[null,"ملاحظات"]
[21,{"$f":"IF(INDIRECT(ADDRESS(A49,1,1,,\"studentName\"))=0,\"\",INDIRECT(ADDRESS(A49,1,1,,\"studentName\")))","v":""},null,null,null,null,null,null,null,null,null,null,null,null,null,null,{"$f":"INDIRECT(ADDRESS(A49+3,18,1,,\"All\"))","v":""},{"$f":"INDIRECT(ADDRESS(A49+3,19,1,,\"All\"))","v":""},{"$f":"INDIRECT(ADDRESS(A49+3,20,1,,\"All\"))","v":""},{"$f":"INDIRECT(ADDRESS(A49+3,21,1,,\"All\"))","v":""},{"$f":"INDIRECT(ADDRESS(A49+3,22,1,,\"All\"))","v":""},{"$f":"INDIRECT(ADDRESS(A49+3,23,1,,\"All\"))","v":""},{"$f":"INDIRECT(ADDRESS(A49+3,24,1,,\"All\"))","v":""}]
[null,"ملاحظات"]
[22,{"$f":"IF(INDIRECT(ADDRESS(A51,1,1,,\"studentName\"))=0,\"\",INDIRECT(ADDRESS(A51,1,1,,\"studentName\")))","v":""},null,null,null,null,null,null,null,null,null,null,null,null,null,null,{"$f":"INDIRECT(ADDRESS(A51+3,18,1,,\"All\"))","v":""},{"$f":"INDIRECT(ADDRESS(A51+3,19,1,,\"All\"))","v":""},{"$f":"INDIRECT(ADDRESS(A51+3,20,1,,\"All\"))","v":""},{"$f":"INDIRECT(ADDRESS(A51+3,21,1,,\"All\"))","v":""},{"$f":"INDIRECT(ADDRESS(A51+3,22,1,,\"All\"))","v":""},{"$f":"INDIRECT(ADDRESS(A51+3,23,1,,\"All\"))","v":""},{"$f":"INDIRECT(ADDRESS(A51+3,24,1,,\"All\"))","v":""}]
[null,"ملاحظات"]
[23,{"$f":"IF(INDIRECT(ADDRESS(A53,1,1,,\"studentName\"))=0,\"\",INDIRECT(ADDRESS(A53,1,1,,\"studentName\")))","v":""},null,null,null,null,null,null,null,null,null,null,null,null,null,null,{"$f":"INDIRECT(ADDRESS(A53+3,18,1,,\"All\"))","v":""},{"$f":"INDIRECT(ADDRESS(A53+3,19,1,,\"All\"))","v":""},{"$f":"INDIRECT(ADDRESS(A53+3,20,1,,\"All\"))","v":""},{"$f":"INDIRECT(ADDRESS(A53+3,21,1,,\"All\"))","v":""},{"$f":"INDIRECT(ADDRESS(A53+3,22,1,,\"All\"))","v":""},{"$f":"INDIRECT(ADDRESS(A53+3,23,1,,\"All\"))","v":""},{"$f":"INDIRECT(ADDRESS(A53+3,24,1,,\"All\"))","v":""}]
[null,"ملاحظات"]
[24,{"$f":"IF(INDIRECT(ADDRESS(A55,1,1,,\"studentName\"))=0,\"\",INDIRECT(ADDRESS(A55,1,1,,\"studentName\")))","v":""},null,null,null,null,null,null,null,null,null,null,null,null,null,null,{"$f":"INDIRECT(ADDRESS(A55+3,18,1,,\"All\"))","v":""},{"$f":"INDIRECT(ADDRESS(A55+3,19,1,,\"All\"))","v":""},{"$f":"INDIRECT(ADDRESS(A55+3,20,1,,\"All\"))","v":""},{"$f":"INDIRECT(ADDRESS(A55+3,21,1,,\"All\"))","v":""},{"$f":"INDIRECT(ADDRESS(A55+3,22,1,,\"All\"))","v":""},{"$f":"INDIRECT(ADDRESS(A55+3,23,1,,\"All\"))","v":""},{"$f":"INDIRECT(ADDRESS(A55+3,24,1,,\"All\"))","v":""}]
[null,"ملاحظات"]
[25,{"$f":"IF(INDIRECT(ADDRESS(A57,1,1,,\"studentName\"))=0,\"\",INDIRECT(ADDRESS(A57,1,1,,\"studentName\")))","v":""},null,null,null,null,null,null,null,null,null,null,null,null,null,null,{"$f":"INDIRECT(ADDRESS(A57+3,18,1,,\"All\"))","v":""},{"$f":"INDIRECT(ADDRESS(A57+3,19,1,,\"All\"))","v":""},{"$f":"INDIRECT(ADDRESS(A57+3,20,1,,\"All\"))","v":""},{"$f":"INDIRECT(ADDRESS(A57+3,21,1,,\"All\"))","v":""},{"$f":"INDIRECT(ADDRESS(A57+3,22,1,,\"All\"))","v":""},{"$f":"INDIRECT(ADDRESS(A57+3,23,1,,\"All\"))","v":""},{"$f":"INDIRECT(ADDRESS(A57+3,24,1,,\"All\"))","v":""}]
[null,"ملاحظات"]
[26,{"$f":"IF(INDIRECT(ADDRESS(A59,1,1,,\"studentName\"))=0,\"\",INDIRECT(ADDRESS(A59,1,1,,\"studentName\")))","v":""},null,null,null,null,null,null,null,null,null,null,null,null,null,null,{"$f":"INDIRECT(ADDRESS(A59+3,18,1,,\"All\"))","v":""},{"$f":"INDIRECT(ADDRESS(A59+3,19,1,,\"All\"))","v":""},{"$f":"INDIRECT(ADDRESS(A59+3,20,1,,\"All\"))","v":""},{"$f":"INDIRECT(ADDRESS(A59+3,21,1,,\"All\"))","v":""},{"$f":"INDIRECT(ADDRESS(A59+3,22,1,,\"All\"))","v":""},{"$f":"INDIRECT(ADDRESS(A59+3,23,1,,\"All\"))","v":""},{"$f":"INDIRECT(ADDRESS(A59+3,24,1,,\"All\"))","v":""}]
[null,"ملاحظات"]
[27,{"$f":"IF(INDIRECT(ADDRESS(A61,1,1,,\"studentName\"))=0,\"\",INDIRECT(ADDRESS(A61,1,1,,\"studentName\")))","v":""},null,null,null,null,null,null,null,null,null,null,null,null,null,null,{"$f":"INDIRECT(ADDRESS(A61+3,18,1,,\"All\"))","v":""},{"$f":"INDIRECT(ADDRESS(A61+3,19,1,,\"All\"))","v":""},{"$f":"INDIRECT(ADDRESS(A61+3,20,1,,\"All\"))","v":""},{"$f":"INDIRECT(ADDRESS(A61+3,21,1,,\"All\"))","v":""},{"$f":"INDIRECT(ADDRESS(A61+3,22,1,,\"All\"))","v":""},{"$f":"INDIRECT(ADDRESS(A61+3,23,1,,\"All\"))","v":""},{"$f":"INDIRECT(ADDRESS(A61+3,24,1,,\"All\"))","v":""}]
[null,"ملاحظات"]
[28,{"$f":"IF(INDIRECT(ADDRESS(A63,1,1,,\"studentName\"))=0,\"\",INDIRECT(ADDRESS(A63,1,1,,\"studentName\")))","v":""},null,null,null,null,null,null,null,null,null,null,null,null,null,null,{"$f":"INDIRECT(ADDRESS(A63+3,18,1,,\"All\"))","v":""},{"$f":"INDIRECT(ADDRESS(A63+3,19,1,,\"All\"))","v":""},{"$f":"INDIRECT(ADDRESS(A63+3,20,1,,\"All\"))","v":""},{"$f":"INDIRECT(ADDRESS(A63+3,21,1,,\"All\"))","v":""},{"$f":"INDIRECT(ADDRESS(A63+3,22,1,,\"All\"))","v":""},{"$f":"INDIRECT(ADDRESS(A63+3,23,1,,\"All\"))","v":""},{"$f":"INDIRECT(ADDRESS(A63+3,24,1,,\"All\"))","v":""}]
[null,"ملاحظات"]
[29,{"$f":"IF(INDIRECT(ADDRESS(A65,1,1,,\"studentName\"))=0,\"\",INDIRECT(ADDRESS(A65,1,1,,\"studentName\")))","v":""},null,null,null,null,null,null,null,null,null,null,null,null,null,null,{"$f":"INDIRECT(ADDRESS(A65+3,18,1,,\"All\"))","v":""},{"$f":"INDIRECT(ADDRESS(A65+3,19,1,,\"All\"))","v":""},{"$f":"INDIRECT(ADDRESS(A65+3,20,1,,\"All\"))","v":""},{"$f":"INDIRECT(ADDRESS(A65+3,21,1,,\"All\"))","v":""},{"$f":"INDIRECT(ADDRESS(A65+3,22,1,,\"All\"))","v":""},{"$f":"INDIRECT(ADDRESS(A65+3,23,1,,\"All\"))","v":""},{"$f":"INDIRECT(ADDRESS(A65+3,24,1,,\"All\"))","v":""}]
[null,"ملاحظات"]
[30,{"$f":"IF(INDIRECT(ADDRESS(A67,1,1,,\"studentName\"))=0,\"\",INDIRECT(ADDRESS(A67,1,1,,\"studentName\")))","v":""},null,null,null,null,null,null,null,null,null,null,null,null,null,null,{"$f":"INDIRECT(ADDRESS(A67+3,18,1,,\"All\"))","v":""},{"$f":"INDIRECT(ADDRESS(A67+3,19,1,,\"All\"))","v":""},{"$f":"INDIRECT(ADDRESS(A67+3,20,1,,\"All\"))","v":""},{"$f":"INDIRECT(ADDRESS(A67+3,21,1,,\"All\"))","v":""},{"$f":"INDIRECT(ADDRESS(A67+3,22,1,,\"All\"))","v":""},{"$f":"INDIRECT(ADDRESS(A67+3,23,1,,\"All\"))","v":""},{"$f":"INDIRECT(ADDRESS(A67+3,24,1,,\"All\"))","v":""}]
[null,"ملاحظات"]
[31,{"$f":"IF(INDIRECT(ADDRESS(A69,1,1,,\"studentName\"))=0,\"\",INDIRECT(ADDRESS(A69,1,1,,\"studentName\")))","v":""},null,null,null,null,null,null,null,null,null,null,null,null,null,null,{"$f":"INDIRECT(ADDRESS(A69+3,18,1,,\"All\"))","v":""},{"$f":"INDIRECT(ADDRESS(A69+3,19,1,,\"All\"))","v":""},{"$f":"INDIRECT(ADDRESS(A69+3,20,1,,\"All\"))","v":""},{"$f":"INDIRECT(ADDRESS(A69+3,21,1,,\"All\"))","v":""},{"$f":"INDIRECT(ADDRESS(A69+3,22,1,,\"All\"))","v":""},{"$f":"INDIRECT(ADDRESS(A69+3,23,1,,\"All\"))","v":""},{"$f":"INDIRECT(ADDRESS(A69+3,24,1,,\"All\"))","v":""}]
[null,"ملاحظات"]
[32,{"$f":"IF(INDIRECT(ADDRESS(A71,1,1,,\"studentName\"))=0,\"\",INDIRECT(ADDRESS(A71,1,1,,\"studentName\")))","v":""},null,null,null,null,null,null,null,null,null,null,null,null,null,null,{"$f":"INDIRECT(ADDRESS(A71+3,18,1,,\"All\"))","v":""},{"$f":"INDIRECT(ADDRESS(A71+3,19,1,,\"All\"))","v":""},{"$f":"INDIRECT(ADDRESS(A71+3,20,1,,\"All\"))","v":""},{"$f":"INDIRECT(ADDRESS(A71+3,21,1,,\"All\"))","v":""},{"$f":"INDIRECT(ADDRESS(A71+3,22,1,,\"All\"))","v":""},{"$f":"INDIRECT(ADDRESS(A71+3,23,1,,\"All\"))","v":""},{"$f":"INDIRECT(ADDRESS(A71+3,24,1,,\"All\"))","v":""}]
[null,"ملاحظات"]
[33,{"$f":"IF(INDIRECT(ADDRESS(A73,1,1,,\"studentName\"))=0,\"\",INDIRECT(ADDRESS(A73,1,1,,\"studentName\")))","v":""},null,null,null,null,null,null,null,null,null,null,null,null,null,null,{"$f":"INDIRECT(ADDRESS(A73+3,18,1,,\"All\"))","v":""},{"$f":"INDIRECT(ADDRESS(A73+3,19,1,,\"All\"))","v":""},{"$f":"INDIRECT(ADDRESS(A73+3,20,1,,\"All\"))","v":""},{"$f":"INDIRECT(ADDRESS(A73+3,21,1,,\"All\"))","v":""},{"$f":"INDIRECT(ADDRESS(A73+3,22,1,,\"All\"))","v":""},{"$f":"INDIRECT(ADDRESS(A73+3,23,1,,\"All\"))","v":""},{"$f":"INDIRECT(ADDRESS(A73+3,24,1,,\"All\"))","v":""}]
[null,"ملاحظات"]
[34,{"$f":"IF(INDIRECT(ADDRESS(A75,1,1,,\"studentName\"))=0,\"\",INDIRECT(ADDRESS(A75,1,1,,\"studentName\")))","v":""},null,null,null,null,null,null,null,null,null,null,null,null,null,null,{"$f":"INDIRECT(ADDRESS(A75+3,18,1,,\"All\"))","v":""},{"$f":"INDIRECT(ADDRESS(A75+3,19,1,,\"All\"))","v":""},{"$f":"INDIRECT(ADDRESS(A75+3,20,1,,\"All\"))","v":""},{"$f":"INDIRECT(ADDRESS(A75+3,21,1,,\"All\"))","v":""},{"$f":"INDIRECT(ADDRESS(A75+3,22,1,,\"All\"))","v":""},{"$f":"INDIRECT(ADDRESS(A75+3,23,1,,\"All\"))","v":""},{"$f":"INDIRECT(ADDRESS(A75+3,24,1,,\"All\"))","v":""}]
[null,"ملاحظات"]
[35,{"$f":"IF(INDIRECT(ADDRESS(A77,1,1,,\"studentName\"))=0,\"\",INDIRECT(ADDRESS(A77,1,1,,\"studentName\")))","v":""},null,null,null,null,null,null,null,null,null,null,null,null,null,null,{"$f":"INDIRECT(ADDRESS(A77+3,18,1,,\"All\"))","v":""},{"$f":"INDIRECT(ADDRESS(A77+3,19,1,,\"All\"))","v":""},{"$f":"INDIRECT(ADDRESS(A77+3,20,1,,\"All\"))","v":""},{"$f":"INDIRECT(ADDRESS(A77+3,21,1,,\"All\"))","v":""},{"$f":"INDIRECT(ADDRESS(A77+3,22,1,,\"All\"))","v":""},{"$f":"INDIRECT(ADDRESS(A77+3,23,1,,\"All\"))","v":""},{"$f":"INDIRECT(ADDRESS(A77+3,24,1,,\"All\"))","v":""}]
[null,"ملاحظات"]
[36,{"$f":"IF(INDIRECT(ADDRESS(A79,1,1,,\"studentName\"))=0,\"\",INDIRECT(ADDRESS(A79,1,1,,\"studentName\")))","v":""},null,null,null,null,null,null,null,null,null,null,null,null,null,null,{"$f":"INDIRECT(ADDRESS(A79+3,18,1,,\"All\"))","v":""},{"$f":"INDIRECT(ADDRESS(A79+3,19,1,,\"All\"))","v":""},{"$f":"INDIRECT(ADDRESS(A79+3,20,1,,\"All\"))","v":""},{"$f":"INDIRECT(ADDRESS(A79+3,21,1,,\"All\"))","v":""},{"$f":"INDIRECT(ADDRESS(A79+3,22,1,,\"All\"))","v":""},{"$f":"INDIRECT(ADDRESS(A79+3,23,1,,\"All\"))","v":""},{"$f":"INDIRECT(ADDRESS(A79+3,24,1,,\"All\"))","v":""}]
[null,"ملاحظات"]
[37,{"$f":"IF(INDIRECT(ADDRESS(A81,1,1,,\"studentName\"))=0,\"\",INDIRECT(ADDRESS(A81,1,1,,\"studentName\")))","v":""},null,null,null,null,null,null,null,null,null,null,null,null,null,null,{"$f":"INDIRECT(ADDRESS(A81+3,18,1,,\"All\"))","v":""},{"$f":"INDIRECT(ADDRESS(A81+3,19,1,,\"All\"))","v":""},{"$f":"INDIRECT(ADDRESS(A81+3,20,1,,\"All\"))","v":""},{"$f":"INDIRECT(ADDRESS(A81+3,21,1,,\"All\"))","v":""},{"$f":"INDIRECT(ADDRESS(A81+3,22,1,,\"All\"))","v":""},{"$f":"INDIRECT(ADDRESS(A81+3,23,1,,\"All\"))","v":""},{"$f":"INDIRECT(ADDRESS(A81+3,24,1,,\"All\"))","v":""}]
[null,"ملاحظات"]
[38,{"$f":"IF(INDIRECT(ADDRESS(A83,1,1,,\"studentName\"))=0,\"\",INDIRECT(ADDRESS(A83,1,1,,\"studentName\")))","v":""},null,null,null,null,null,null,null,null,null,null,null,null,null,null,{"$f":"INDIRECT(ADDRESS(A83+3,18,1,,\"All\"))","v":""},{"$f":"INDIRECT(ADDRESS(A83+3,19,1,,\"All\"))","v":""},{"$f":"INDIRECT(ADDRESS(A83+3,20,1,,\"All\"))","v":""},{"$f":"INDIRECT(ADDRESS(A83+3,21,1,,\"All\"))","v":""},{"$f":"INDIRECT(ADDRESS(A83+3,22,1,,\"All\"))","v":""},{"$f":"INDIRECT(ADDRESS(A83+3,23,1,,\"All\"))","v":""},{"$f":"INDIRECT(ADDRESS(A83+3,24,1,,\"All\"))","v":""}]
[null,"ملاحظات"]
[39,{"$f":"IF(INDIRECT(ADDRESS(A85,1,1,,\"studentName\"))=0,\"\",INDIRECT(ADDRESS(A85,1,1,,\"studentName\")))","v":""},null,null,null,null,null,null,null,null,null,null,null,null,null,null,{"$f":"INDIRECT(ADDRESS(A85+3,18,1,,\"All\"))","v":""},{"$f":"INDIRECT(ADDRESS(A85+3,19,1,,\"All\"))","v":""},{"$f":"INDIRECT(ADDRESS(A85+3,20,1,,\"All\"))","v":""},{"$f":"INDIRECT(ADDRESS(A85+3,21,1,,\"All\"))","v":""},{"$f":"INDIRECT(ADDRESS(A85+3,22,1,,\"All\"))","v":""},{"$f":"INDIRECT(ADDRESS(A85+3,23,1,,\"All\"))","v":""},{"$f":"INDIRECT(ADDRESS(A85+3,24,1,,\"All\"))","v":""}]
[null,"ملاحظات"]
[40,{"$f":"IF(INDIRECT(ADDRESS(A87,1,1,,\"studentName\"))=0,\"\",INDIRECT(ADDRESS(A87,1,1,,\"studentName\")))","v":""},null,null,null,null,null,null,null,null,null,null,null,null,null,null,{"$f":"INDIRECT(ADDRESS(A87+3,18,1,,\"All\"))","v":""},{"$f":"INDIRECT(ADDRESS(A87+3,19,1,,\"All\"))","v":""},{"$f":"INDIRECT(ADDRESS(A87+3,20,1,,\"All\"))","v":""},{"$f":"INDIRECT(ADDRESS(A87+3,21,1,,\"All\"))","v":""},{"$f":"INDIRECT(ADDRESS(A87+3,22,1,,\"All\"))","v":""},{"$f":"INDIRECT(ADDRESS(A87+3,23,1,,\"All\"))","v":""},{"$f":"INDIRECT(ADDRESS(A87+3,24,1,,\"All\"))","v":""}]
[null,"ملاحظات"]
[41,{"$f":"IF(INDIRECT(ADDRESS(A89,1,1,,\"studentName\"))=0,\"\",INDIRECT(ADDRESS(A89,1,1,,\"studentName\")))","v":""},null,null,null,null,null,null,null,null,null,null,null,null,null,null,{"$f":"INDIRECT(ADDRESS(A89+3,18,1,,\"All\"))","v":""},{"$f":"INDIRECT(ADDRESS(A89+3,19,1,,\"All\"))","v":""},{"$f":"INDIRECT(ADDRESS(A89+3,20,1,,\"All\"))","v":""},{"$f":"INDIRECT(ADDRESS(A89+3,21,1,,\"All\"))","v":""},{"$f":"INDIRECT(ADDRESS(A89+3,22,1,,\"All\"))","v":""},{"$f":"INDIRECT(ADDRESS(A89+3,23,1,,\"All\"))","v":""},{"$f":"INDIRECT(ADDRESS(A89+3,24,1,,\"All\"))","v":""}]
[null,"ملاحظات"]
[42,{"$f":"IF(INDIRECT(ADDRESS(A91,1,1,,\"studentName\"))=0,\"\",INDIRECT(ADDRESS(A91,1,1,,\"studentName\")))","v":""},null,null,null,null,null,null,null,null,null,null,null,null,null,null,{"$f":"INDIRECT(ADDRESS(A91+3,18,1,,\"All\"))","v":""},{"$f":"INDIRECT(ADDRESS(A91+3,19,1,,\"All\"))","v":""},{"$f":"INDIRECT(ADDRESS(A91+3,20,1,,\"All\"))","v":""},{"$f":"INDIRECT(ADDRESS(A91+3,21,1,,\"All\"))","v":""},{"$f":"INDIRECT(ADDRESS(A91+3,22,1,,\"All\"))","v":""},{"$f":"INDIRECT(ADDRESS(A91+3,23,1,,\"All\"))","v":""},{"$f":"INDIRECT(ADDRESS(A91+3,24,1,,\"All\"))","v":""}]
[null,"ملاحظات"]
[43,{"$f":"IF(INDIRECT(ADDRESS(A93,1,1,,\"studentName\"))=0,\"\",INDIRECT(ADDRESS(A93,1,1,,\"studentName\")))","v":""},null,null,null,null,null,null,null,null,null,null,null,null,null,null,{"$f":"INDIRECT(ADDRESS(A93+3,18,1,,\"All\"))","v":""},{"$f":"INDIRECT(ADDRESS(A93+3,19,1,,\"All\"))","v":""},{"$f":"INDIRECT(ADDRESS(A93+3,20,1,,\"All\"))","v":""},{"$f":"INDIRECT(ADDRESS(A93+3,21,1,,\"All\"))","v":""},{"$f":"INDIRECT(ADDRESS(A93+3,22,1,,\"All\"))","v":""},{"$f":"INDIRECT(ADDRESS(A93+3,23,1,,\"All\"))","v":""},{"$f":"INDIRECT(ADDRESS(A93+3,24,1,,\"All\"))","v":""}]
[null,"ملاحظات"]
[44,{"$f":"IF(INDIRECT(ADDRESS(A95,1,1,,\"studentName\"))=0,\"\",INDIRECT(ADDRESS(A95,1,1,,\"studentName\")))","v":""},null,null,null,null,null,null,null,null,null,null,null,null,null,null,{"$f":"INDIRECT(ADDRESS(A95+3,18,1,,\"All\"))","v":""},{"$f":"INDIRECT(ADDRESS(A95+3,19,1,,\"All\"))","v":""},{"$f":"INDIRECT(ADDRESS(A95+3,20,1,,\"All\"))","v":""},{"$f":"INDIRECT(ADDRESS(A95+3,21,1,,\"All\"))","v":""},{"$f":"INDIRECT(ADDRESS(A95+3,22,1,,\"All\"))","v":""},{"$f":"INDIRECT(ADDRESS(A95+3,23,1,,\"All\"))","v":""},{"$f":"INDIRECT(ADDRESS(A95+3,24,1,,\"All\"))","v":""}]
[null,"ملاحظات"]
[45,{"$f":"IF(INDIRECT(ADDRESS(A97,1,1,,\"studentName\"))=0,\"\",INDIRECT(ADDRESS(A97,1,1,,\"studentName\")))","v":""},null,null,null,null,null,null,null,null,null,null,null,null,null,null,{"$f":"INDIRECT(ADDRESS(A97+3,18,1,,\"All\"))","v":""},{"$f":"INDIRECT(ADDRESS(A97+3,19,1,,\"All\"))","v":""},{"$f":"INDIRECT(ADDRESS(A97+3,20,1,,\"All\"))","v":""},{"$f":"INDIRECT(ADDRESS(A97+3,21,1,,\"All\"))","v":""},{"$f":"INDIRECT(ADDRESS(A97+3,22,1,,\"All\"))","v":""},{"$f":"INDIRECT(ADDRESS(A97+3,23,1,,\"All\"))","v":""},{"$f":"INDIRECT(ADDRESS(A97+3,24,1,,\"All\"))","v":""}]
[null,"ملاحظات"]
[46,{"$f":"IF(INDIRECT(ADDRESS(A99,1,1,,\"studentName\"))=0,\"\",INDIRECT(ADDRESS(A99,1,1,,\"studentName\")))","v":""},null,null,null,null,null,null,null,null,null,null,null,null,null,null,{"$f":"INDIRECT(ADDRESS(A99+3,18,1,,\"All\"))","v":""},{"$f":"INDIRECT(ADDRESS(A99+3,19,1,,\"All\"))","v":""},{"$f":"INDIRECT(ADDRESS(A99+3,20,1,,\"All\"))","v":""},{"$f":"INDIRECT(ADDRESS(A99+3,21,1,,\"All\"))","v":""},{"$f":"INDIRECT(ADDRESS(A99+3,22,1,,\"All\"))","v":""},{"$f":"INDIRECT(ADDRESS(A99+3,23,1,,\"All\"))","v":""},{"$f":"INDIRECT(ADDRESS(A99+3,24,1,,\"All\"))","v":""}]
[null,"ملاحظات"]
[47,{"$f":"IF(INDIRECT(ADDRESS(A101,1,1,,\"studentName\"))=0,\"\",INDIRECT(ADDRESS(A101,1,1,,\"studentName\")))","v":""},null,null,null,null,null,null,null,null,null,null,null,null,null,null,{"$f":"INDIRECT(ADDRESS(A101+3,18,1,,\"All\"))","v":""},{"$f":"INDIRECT(ADDRESS(A101+3,19,1,,\"All\"))","v":""},{"$f":"INDIRECT(ADDRESS(A101+3,20,1,,\"All\"))","v":""},{"$f":"INDIRECT(ADDRESS(A101+3,21,1,,\"All\"))","v":""},{"$f":"INDIRECT(ADDRESS(A101+3,22,1,,\"All\"))","v":""},{"$f":"INDIRECT(ADDRESS(A101+3,23,1,,\"All\"))","v":""},{"$f":"INDIRECT(ADDRESS(A101+3,24,1,,\"All\"))","v":""}]
[null,"ملاحظات"]
[48,{"$f":"IF(INDIRECT(ADDRESS(A103,1,1,,\"studentName\"))=0,\"\",INDIRECT(ADDRESS(A103,1,1,,\"studentName\")))","v":""},null,null,null,null,null,null,null,null,null,null,null,null,null,null,{"$f":"INDIRECT(ADDRESS(A103+3,18,1,,\"All\"))","v":""},{"$f":"INDIRECT(ADDRESS(A103+3,19,1,,\"All\"))","v":""},{"$f":"INDIRECT(ADDRESS(A103+3,20,1,,\"All\"))","v":""},{"$f":"INDIRECT(ADDRESS(A103+3,21,1,,\"All\"))","v":""},{"$f":"INDIRECT(ADDRESS(A103+3,22,1,,\"All\"))","v":""},{"$f":"INDIRECT(ADDRESS(A103+3,23,1,,\"All\"))","v":""},{"$f":"INDIRECT(ADDRESS(A103+3,24,1,,\"All\"))","v":""}]
[null,"ملاحظات"]
[49,{"$f":"IF(INDIRECT(ADDRESS(A105,1,1,,\"studentName\"))=0,\"\",INDIRECT(ADDRESS(A105,1,1,,\"studentName\")))","v":""},null,null,null,null,null,null,null,null,null,null,null,null,null,null,{"$f":"INDIRECT(ADDRESS(A105+3,18,1,,\"All\"))","v":""},{"$f":"INDIRECT(ADDRESS(A105+3,19,1,,\"All\"))","v":""},{"$f":"INDIRECT(ADDRESS(A105+3,20,1,,\"All\"))","v":""},{"$f":"INDIRECT(ADDRESS(A105+3,21,1,,\"All\"))","v":""},{"$f":"INDIRECT(ADDRESS(A105+3,22,1,,\"All\"))","v":""},{"$f":"INDIRECT(ADDRESS(A105+3,23,1,,\"All\"))","v":""},{"$f":"INDIRECT(ADDRESS(A105+3,24,1,,\"All\"))","v":""}]
[null,"ملاحظات"]
[50,{"$f":"IF(INDIRECT(ADDRESS(A107,1,1,,\"studentName\"))=0,\"\",INDIRECT(ADDRESS(A107,1,1,,\"studentName\")))","v":""},null,null,null,null,null,null,null,null,null,null,null,null,null,null,{"$f":"INDIRECT(ADDRESS(A107+3,18,1,,\"All\"))","v":""},{"$f":"INDIRECT(ADDRESS(A107+3,19,1,,\"All\"))","v":""},{"$f":"INDIRECT(ADDRESS(A107+3,20,1,,\"All\"))","v":""},{"$f":"INDIRECT(ADDRESS(A107+3,21,1,,\"All\"))","v":""},{"$f":"INDIRECT(ADDRESS(A107+3,22,1,,\"All\"))","v":""},{"$f":"INDIRECT(ADDRESS(A107+3,23,1,,\"All\"))","v":""},{"$f":"INDIRECT(ADDRESS(A107+3,24,1,,\"All\"))","v":""}]
[null,"ملاحظات"]
[51,{"$f":"IF(INDIRECT(ADDRESS(A109,1,1,,\"studentName\"))=0,\"\",INDIRECT(ADDRESS(A109,1,1,,\"studentName\")))","v":""},null,null,null,null,null,null,null,null,null,null,null,null,null,null,{"$f":"INDIRECT(ADDRESS(A109+3,18,1,,\"All\"))","v":""},{"$f":"INDIRECT(ADDRESS(A109+3,19,1,,\"All\"))","v":""},{"$f":"INDIRECT(ADDRESS(A109+3,20,1,,\"All\"))","v":""},{"$f":"INDIRECT(ADDRESS(A109+3,21,1,,\"All\"))","v":""},{"$f":"INDIRECT(ADDRESS(A109+3,22,1,,\"All\"))","v":""},{"$f":"INDIRECT(ADDRESS(A109+3,23,1,,\"All\"))","v":""},{"$f":"INDIRECT(ADDRESS(A109+3,24,1,,\"All\"))","v":""}]
[null,"ملاحظات"]
[52,{"$f":"IF(INDIRECT(ADDRESS(A111,1,1,,\"studentName\"))=0,\"\",INDIRECT(ADDRESS(A111,1,1,,\"studentName\")))","v":""},null,null,null,null,null,null,null,null,null,null,null,null,null,null,{"$f":"INDIRECT(ADDRESS(A111+3,18,1,,\"All\"))","v":""},{"$f":"INDIRECT(ADDRESS(A111+3,19,1,,\"All\"))","v":""},{"$f":"INDIRECT(ADDRESS(A111+3,20,1,,\"All\"))","v":""},{"$f":"INDIRECT(ADDRESS(A111+3,21,1,,\"All\"))","v":""},{"$f":"INDIRECT(ADDRESS(A111+3,22,1,,\"All\"))","v":""},{"$f":"INDIRECT(ADDRESS(A111+3,23,1,,\"All\"))","v":""},{"$f":"INDIRECT(ADDRESS(A111+3,24,1,,\"All\"))","v":""}]
[null,"ملاحظات"]
[53,{"$f":"IF(INDIRECT(ADDRESS(A113,1,1,,\"studentName\"))=0,\"\",INDIRECT(ADDRESS(A113,1,1,,\"studentName\")))","v":""},null,null,null,null,null,null,null,null,null,null,null,null,null,null,{"$f":"INDIRECT(ADDRESS(A113+3,18,1,,\"All\"))","v":""},{"$f":"INDIRECT(ADDRESS(A113+3,19,1,,\"All\"))","v":""},{"$f":"INDIRECT(ADDRESS(A113+3,20,1,,\"All\"))","v":""},{"$f":"INDIRECT(ADDRESS(A113+3,21,1,,\"All\"))","v":""},{"$f":"INDIRECT(ADDRESS(A113+3,22,1,,\"All\"))","v":""},{"$f":"INDIRECT(ADDRESS(A113+3,23,1,,\"All\"))","v":""},{"$f":"INDIRECT(ADDRESS(A113+3,24,1,,\"All\"))","v":""}]
[null,"ملاحظات"]
[54,{"$f":"IF(INDIRECT(ADDRESS(A115,1,1,,\"studentName\"))=0,\"\",INDIRECT(ADDRESS(A115,1,1,,\"studentName\")))","v":""},null,null,null,null,null,null,null,null,null,null,null,null,null,null,{"$f":"INDIRECT(ADDRESS(A115+3,18,1,,\"All\"))","v":""},{"$f":"INDIRECT(ADDRESS(A115+3,19,1,,\"All\"))","v":""},{"$f":"INDIRECT(ADDRESS(A115+3,20,1,,\"All\"))","v":""},{"$f":"INDIRECT(ADDRESS(A115+3,21,1,,\"All\"))","v":""},{"$f":"INDIRECT(ADDRESS(A115+3,22,1,,\"All\"))","v":""},{"$f":"INDIRECT(ADDRESS(A115+3,23,1,,\"All\"))","v":""},{"$f":"INDIRECT(ADDRESS(A115+3,24,1,,\"All\"))","v":""}]
[null,"ملاحظات"]
[55,{"$f":"IF(INDIRECT(ADDRESS(A117,1,1,,\"studentName\"))=0,\"\",INDIRECT(ADDRESS(A117,1,1,,\"studentName\")))","v":""},null,null,null,null,null,null,null,null,null,null,null,null,null,null,{"$f":"INDIRECT(ADDRESS(A117+3,18,1,,\"All\"))","v":""},{"$f":"INDIRECT(ADDRESS(A117+3,19,1,,\"All\"))","v":""},{"$f":"INDIRECT(ADDRESS(A117+3,20,1,,\"All\"))","v":""},{"$f":"INDIRECT(ADDRESS(A117+3,21,1,,\"All\"))","v":""},{"$f":"INDIRECT(ADDRESS(A117+3,22,1,,\"All\"))","v":""},{"$f":"INDIRECT(ADDRESS(A117+3,23,1,,\"All\"))","v":""},{"$f":"INDIRECT(ADDRESS(A117+3,24,1,,\"All\"))","v":""}]
[null,"ملاحظات"]
[56,{"$f":"IF(INDIRECT(ADDRESS(A119,1,1,,\"studentName\"))=0,\"\",INDIRECT(ADDRESS(A119,1,1,,\"studentName\")))","v":""},null,null,null,null,null,null,null,null,null,null,null,null,null,null,{"$f":"INDIRECT(ADDRESS(A119+3,18,1,,\"All\"))","v":""},{"$f":"INDIRECT(ADDRESS(A119+3,19,1,,\"All\"))","v":""},{"$f":"INDIRECT(ADDRESS(A119+3,20,1,,\"All\"))","v":""},{"$f":"INDIRECT(ADDRESS(A119+3,21,1,,\"All\"))","v":""},{"$f":"INDIRECT(ADDRESS(A119+3,22,1,,\"All\"))","v":""},{"$f":"INDIRECT(ADDRESS(A119+3,23,1,,\"All\"))","v":""},{"$f":"INDIRECT(ADDRESS(A119+3,24,1,,\"All\"))","v":""}]
[null,"ملاحظات"]
[57,{"$f":"IF(INDIRECT(ADDRESS(A121,1,1,,\"studentName\"))=0,\"\",INDIRECT(ADDRESS(A121,1,1,,\"studentName\")))","v":""},null,null,null,null,null,null,null,null,null,null,null,null,null,null,{"$f":"INDIRECT(ADDRESS(A121+3,18,1,,\"All\"))","v":""},{"$f":"INDIRECT(ADDRESS(A121+3,19,1,,\"All\"))","v":""},{"$f":"INDIRECT(ADDRESS(A121+3,20,1,,\"All\"))","v":""},{"$f":"INDIRECT(ADDRESS(A121+3,21,1,,\"All\"))","v":""},{"$f":"INDIRECT(ADDRESS(A121+3,22,1,,\"All\"))","v":""},{"$f":"INDIRECT(ADDRESS(A121+3,23,1,,\"All\"))","v":""},{"$f":"INDIRECT(ADDRESS(A121+3,24,1,,\"All\"))","v":""}]
[null,"ملاحظات"]
[58,{"$f":"IF(INDIRECT(ADDRESS(A123,1,1,,\"studentName\"))=0,\"\",INDIRECT(ADDRESS(A123,1,1,,\"studentName\")))","v":""},null,null,null,null,null,null,null,null,null,null,null,null,null,null,{"$f":"INDIRECT(ADDRESS(A123+3,18,1,,\"All\"))","v":""},{"$f":"INDIRECT(ADDRESS(A123+3,19,1,,\"All\"))","v":""},{"$f":"INDIRECT(ADDRESS(A123+3,20,1,,\"All\"))","v":""},{"$f":"INDIRECT(ADDRESS(A123+3,21,1,,\"All\"))","v":""},{"$f":"INDIRECT(ADDRESS(A123+3,22,1,,\"All\"))","v":""},{"$f":"INDIRECT(ADDRESS(A123+3,23,1,,\"All\"))","v":""},{"$f":"INDIRECT(ADDRESS(A123+3,24,1,,\"All\"))","v":""}]
[null,"ملاحظات"]
[59,{"$f":"IF(INDIRECT(ADDRESS(A125,1,1,,\"studentName\"))=0,\"\",INDIRECT(ADDRESS(A125,1,1,,\"studentName\")))","v":""},null,null,null,null,null,null,null,null,null,null,null,null,null,null,{"$f":"INDIRECT(ADDRESS(A125+3,18,1,,\"All\"))","v":""},{"$f":"INDIRECT(ADDRESS(A125+3,19,1,,\"All\"))","v":""},{"$f":"INDIRECT(ADDRESS(A125+3,20,1,,\"All\"))","v":""},{"$f":"INDIRECT(ADDRESS(A125+3,21,1,,\"All\"))","v":""},{"$f":"INDIRECT(ADDRESS(A125+3,22,1,,\"All\"))","v":""},{"$f":"INDIRECT(ADDRESS(A125+3,23,1,,\"All\"))","v":""},{"$f":"INDIRECT(ADDRESS(A125+3,24,1,,\"All\"))","v":""}]
[null,"ملاحظات"]
[60,{"$f":"IF(INDIRECT(ADDRESS(A127,1,1,,\"studentName\"))=0,\"\",INDIRECT(ADDRESS(A127,1,1,,\"studentName\")))","v":""},null,null,null,null,null,null,null,null,null,null,null,null,null,null,{"$f":"INDIRECT(ADDRESS(A127+3,18,1,,\"All\"))","v":""},{"$f":"INDIRECT(ADDRESS(A127+3,19,1,,\"All\"))","v":""},{"$f":"INDIRECT(ADDRESS(A127+3,20,1,,\"All\"))","v":""},{"$f":"INDIRECT(ADDRESS(A127+3,21,1,,\"All\"))","v":""},{"$f":"INDIRECT(ADDRESS(A127+3,22,1,,\"All\"))","v":""},{"$f":"INDIRECT(ADDRESS(A127+3,23,1,,\"All\"))","v":""},{"$f":"INDIRECT(ADDRESS(A127+3,24,1,,\"All\"))","v":""}]
[null,"ملاحظات"]
[61,{"$f":"IF(INDIRECT(ADDRESS(A129,1,1,,\"studentName\"))=0,\"\",INDIRECT(ADDRESS(A129,1,1,,\"studentName\")))","v":""},null,null,null,null,null,null,null,null,null,null,null,null,null,null,{"$f":"INDIRECT(ADDRESS(A129+3,18,1,,\"All\"))","v":""},{"$f":"INDIRECT(ADDRESS(A129+3,19,1,,\"All\"))","v":""},{"$f":"INDIRECT(ADDRESS(A129+3,20,1,,\"All\"))","v":""},{"$f":"INDIRECT(ADDRESS(A129+3,21,1,,\"All\"))","v":""},{"$f":"INDIRECT(ADDRESS(A129+3,22,1,,\"All\"))","v":""},{"$f":"INDIRECT(ADDRESS(A129+3,23,1,,\"All\"))","v":""},{"$f":"INDIRECT(ADDRESS(A129+3,24,1,,\"All\"))","v":""}]
[null,"ملاحظات"]
[62,{"$f":"IF(INDIRECT(ADDRESS(A131,1,1,,\"studentName\"))=0,\"\",INDIRECT(ADDRESS(A131,1,1,,\"studentName\")))","v":""},null,null,null,null,null,null,null,null,null,null,null,null,null,null,{"$f":"INDIRECT(ADDRESS(A131+3,18,1,,\"All\"))","v":""},{"$f":"INDIRECT(ADDRESS(A131+3,19,1,,\"All\"))","v":""},{"$f":"INDIRECT(ADDRESS(A131+3,20,1,,\"All\"))","v":""},{"$f":"INDIRECT(ADDRESS(A131+3,21,1,,\"All\"))","v":""},{"$f":"INDIRECT(ADDRESS(A131+3,22,1,,\"All\"))","v":""},{"$f":"INDIRECT(ADDRESS(A131+3,23,1,,\"All\"))","v":""},{"$f":"INDIRECT(ADDRESS(A131+3,24,1,,\"All\"))","v":""}]
[null,"ملاحظات"]
[63,{"$f":"IF(INDIRECT(ADDRESS(A133,1,1,,\"studentName\"))=0,\"\",INDIRECT(ADDRESS(A133,1,1,,\"studentName\")))","v":""},null,null,null,null,null,null,null,null,null,null,null,null,null,null,{"$f":"INDIRECT(ADDRESS(A133+3,18,1,,\"All\"))","v":""},{"$f":"INDIRECT(ADDRESS(A133+3,19,1,,\"All\"))","v":""},{"$f":"INDIRECT(ADDRESS(A133+3,20,1,,\"All\"))","v":""},{"$f":"INDIRECT(ADDRESS(A133+3,21,1,,\"All\"))","v":""},{"$f":"INDIRECT(ADDRESS(A133+3,22,1,,\"All\"))","v":""},{"$f":"INDIRECT(ADDRESS(A133+3,23,1,,\"All\"))","v":""},{"$f":"INDIRECT(ADDRESS(A133+3,24,1,,\"All\"))","v":""}]
[null,"ملاحظات"]
[64,{"$f":"IF(INDIRECT(ADDRESS(A135,1,1,,\"studentName\"))=0,\"\",INDIRECT(ADDRESS(A135,1,1,,\"studentName\")))","v":""},null,null,null,null,null,null,null,null,null,null,null,null,null,null,{"$f":"INDIRECT(ADDRESS(A135+3,18,1,,\"All\"))","v":""},{"$f":"INDIRECT(ADDRESS(A135+3,19,1,,\"All\"))","v":""},{"$f":"INDIRECT(ADDRESS(A135+3,20,1,,\"All\"))","v":""},{"$f":"INDIRECT(ADDRESS(A135+3,21,1,,\"All\"))","v":""},{"$f":"INDIRECT(ADDRESS(A135+3,22,1,,\"All\"))","v":""},{"$f":"INDIRECT(ADDRESS(A135+3,23,1,,\"All\"))","v":""},{"$f":"INDIRECT(ADDRESS(A135+3,24,1,,\"All\"))","v":""}]
[null,"ملاحظات"]
[65,{"$f":"IF(INDIRECT(ADDRESS(A137,1,1,,\"studentName\"))=0,\"\",INDIRECT(ADDRESS(A137,1,1,,\"studentName\")))","v":""},null,null,null,null,null,null,null,null,null,null,null,null,null,null,{"$f":"INDIRECT(ADDRESS(A137+3,18,1,,\"All\"))","v":""},{"$f":"INDIRECT(ADDRESS(A137+3,19,1,,\"All\"))","v":""},{"$f":"INDIRECT(ADDRESS(A137+3,20,1,,\"All\"))","v":""},{"$f":"INDIRECT(ADDRESS(A137+3,21,1,,\"All\"))","v":""},{"$f":"INDIRECT(ADDRESS(A137+3,22,1,,\"All\"))","v":""},{"$f":"INDIRECT(ADDRESS(A137+3,23,1,,\"All\"))","v":""},{"$f":"INDIRECT(ADDRESS(A137+3,24,1,,\"All\"))","v":""}]
[null,"ملاحظات"]
[66,{"$f":"IF(INDIRECT(ADDRESS(A139,1,1,,\"studentName\"))=0,\"\",INDIRECT(ADDRESS(A139,1,1,,\"studentName\")))","v":""},null,null,null,null,null,null,null,null,null,null,null,null,null,null,{"$f":"INDIRECT(ADDRESS(A139+3,18,1,,\"All\"))","v":""},{"$f":"INDIRECT(ADDRESS(A139+3,19,1,,\"All\"))","v":""},{"$f":"INDIRECT(ADDRESS(A139+3,20,1,,\"All\"))","v":""},{"$f":"INDIRECT(ADDRESS(A139+3,21,1,,\"All\"))","v":""},{"$f":"INDIRECT(ADDRESS(A139+3,22,1,,\"All\"))","v":""},{"$f":"INDIRECT(ADDRESS(A139+3,23,1,,\"All\"))","v":""},{"$f":"INDIRECT(ADDRESS(A139+3,24,1,,\"All\"))","v":""}]
[null,"ملاحظات"]
[67,{"$f":"IF(INDIRECT(ADDRESS(A141,1,1,,\"studentName\"))=0,\"\",INDIRECT(ADDRESS(A141,1,1,,\"studentName\")))","v":""},null,null,null,null,null,null,null,null,null,null,null,null,null,null,{"$f":"INDIRECT(ADDRESS(A141+3,18,1,,\"All\"))","v":""},{"$f":"INDIRECT(ADDRESS(A141+3,19,1,,\"All\"))","v":""},{"$f":"INDIRECT(ADDRESS(A141+3,20,1,,\"All\"))","v":""},{"$f":"INDIRECT(ADDRESS(A141+3,21,1,,\"All\"))","v":""},{"$f":"INDIRECT(ADDRESS(A141+3,22,1,,\"All\"))","v":""},{"$f":"INDIRECT(ADDRESS(A141+3,23,1,,\"All\"))","v":""},{"$f":"INDIRECT(ADDRESS(A141+3,24,1,,\"All\"))","v":""}]
[null,"ملاحظات"]
[68,{"$f":"IF(INDIRECT(ADDRESS(A143,1,1,,\"studentName\"))=0,\"\",INDIRECT(ADDRESS(A143,1,1,,\"studentName\")))","v":""},null,null,null,null,null,null,null,null,null,null,null,null,null,null,{"$f":"INDIRECT(ADDRESS(A143+3,18,1,,\"All\"))","v":""},{"$f":"INDIRECT(ADDRESS(A143+3,19,1,,\"All\"))","v":""},{"$f":"INDIRECT(ADDRESS(A143+3,20,1,,\"All\"))","v":""},{"$f":"INDIRECT(ADDRESS(A143+3,21,1,,\"All\"))","v":""},{"$f":"INDIRECT(ADDRESS(A143+3,22,1,,\"All\"))","v":""},{"$f":"INDIRECT(ADDRESS(A143+3,23,1,,\"All\"))","v":""},{"$f":"INDIRECT(ADDRESS(A143+3,24,1,,\"All\"))","v":""}]
[null,"ملاحظات"]
[69,{"$f":"IF(INDIRECT(ADDRESS(A145,1,1,,\"studentName\"))=0,\"\",INDIRECT(ADDRESS(A145,1,1,,\"studentName\")))","v":""},null,null,null,null,null,null,null,null,null,null,null,null,null,null,{"$f":"INDIRECT(ADDRESS(A145+3,18,1,,\"All\"))","v":""},{"$f":"INDIRECT(ADDRESS(A145+3,19,1,,\"All\"))","v":""},{"$f":"INDIRECT(ADDRESS(A145+3,20,1,,\"All\"))","v":""},{"$f":"INDIRECT(ADDRESS(A145+3,21,1,,\"All\"))","v":""},{"$f":"INDIRECT(ADDRESS(A145+3,22,1,,\"All\"))","v":""},{"$f":"INDIRECT(ADDRESS(A145+3,23,1,,\"All\"))","v":""},{"$f":"INDIRECT(ADDRESS(A145+3,24,1,,\"All\"))","v":""}]
[null,"ملاحظات"]
[70,{"$f":"IF(INDIRECT(ADDRESS(A147,1,1,,\"studentName\"))=0,\"\",INDIRECT(ADDRESS(A147,1,1,,\"studentName\")))","v":""},null,null,null,null,null,null,null,null,null,null,null,null,null,null,{"$f":"INDIRECT(ADDRESS(A147+3,18,1,,\"All\"))","v":""},{"$f":"INDIRECT(ADDRESS(A147+3,19,1,,\"All\"))","v":""},{"$f":"INDIRECT(ADDRESS(A147+3,20,1,,\"All\"))","v":""},{"$f":"INDIRECT(ADDRESS(A147+3,21,1,,\"All\"))","v":""},{"$f":"INDIRECT(ADDRESS(A147+3,22,1,,\"All\"))","v":""},{"$f":"INDIRECT(ADDRESS(A147+3,23,1,,\"All\"))","v":""},{"$f":"INDIRECT(ADDRESS(A147+3,24,1,,\"All\"))","v":""}]
[null,"ملاحظات"]

{"sheet":"report1","index":4,"n_rows":78,"n_cols":43,"rows_kept":78,"cut":false,"hidden":false,"merged":[[1,2,1,18],[1,0,1,1],[2,0,2,1],[3,2,3,3],[5,5,6,5],[5,7,6,7],[5,8,6,8],[4,17,4,19],[4,0,6,0],[4,1,6,1],[5,2,6,2],[5,3,6,3],[5,4,6,4],[5,15,6,15],[5,11,6,11],[4,23,5,23],[5,6,6,6],[5,9,6,9],[5,10,6,10],[5,12,6,12],[5,13,6,13],[5,14,6,14],[4,20,4,22],[4,2,4,6],[4,7,4,11],[4,12,4,16],[5,16,6,16]]}
[null,null,null,null,null,null,null,null,null,null,null,null,null,null,null,null,null,null,null,null,null,null,null,null,null,null,null,null,null,null,null,null,null,null,null,null,null,null,null,null,null,1,"يحتاج إلى تعزيز في السلوكيات التربوية"]
[{"$f":"Basic!$B$2","v":"منطقة مبارك الكبير التعليمية"},null,"كشــــــف درجات المتعلمين في مادة تكنولوجيا المعلومات والاتصالات",null,null,null,null,null,null,null,null,null,null,null,null,null,null,null,null,null,null,null,null,null,null,null,null,null,null,null,null,null,null,null,null,null,null,null,null,null,null,0,"لا يحضر ادواته ( الكتاب ، .... ) "]
[{"$f":"Basic!$B$9","v":"مدرسة : "},null,null,null,null,null,null,null,null,null,null,null,null,null,null,null,null,null,null,null,{"$f":"Basic!$B$8","v":"العام الدراسي : 2020-2019"},null,null,null,null,null,null,null,null,null,null,null,null,null,null,null,null,null,null,null,null,null,"أخرى"]
[null,{"$f":"FirstPartDegrees1!B3","v":"اسم المعلم :"},{"$f":"Basic!$B$4","v":""},null,null,null,null,null,{"$f":"Basic!$B$11","v":"الفصل 4-1"},null,null,null,null,null,null,null,null,null,null,null,{"$f":"Basic!$B$10","v":"الفصل الدراسي الأول"}]
["م","اسم المتعلم / المتعلمة","الكفاية العامة (1)",null,null,null,null,"الكفاية العامة (2)",null,null,null,null,"الكفاية العامة (3)",null,null,null,null,"درجة التقييم البنائي",null,null,"درجة التقييم النهائي",null,null,"نهاية الفصل الأول"]
[null,null,"كفاية 1.1","كفاية 2.1","كفاية 3.1","كفاية 4.1","المجموع","كفاية 1.2","كفاية 2.2","كفاية 3.2","كفاية 4.2","المجموع","كفاية 1.3","كفاية 2.3","كفاية 3.3","كفاية 4.3","المجموع",null,"المشروع","المجموع","مشروع1","مشروع2","المجموع"]
[null,null,null,null,null,null,null,null,null,null,null,null,null,null,null,null,null,40,20,60,20,20,40,100]
[null,null,"D","E","F","G",null,"H","I","J","K",null,"L","M","N","O",null,"R","S","T","U","V","W","X"]
[1,{"$f":"IF(INDIRECT(ADDRESS(A9+3,2,4,1,\"all\"))=\"\",\"\",INDIRECT(ADDRESS(A9+3,2,4,1,\"all\")))","v":""},{"$f":"IF(INDIRECT(\"'all'!\"&C$8&($A9+3))=0,\"\",INDIRECT(\"'all'!\"&C$8&($A9+3)))","v":""},"","","",{"$f":"IF(SUM(C9:F9)=0,\"\",SUM(C9:F9))","v":""},{"$f":"IF(INDIRECT(\"'all'!\"&H$8&($A9+3))=0,\"\",INDIRECT(\"'all'!\"&H$8&($A9+3)))","v":""},"","","",{"$f":"IF(SUM(H9:K9)=0,\"\",SUM(H9:K9))","v":""},{"$f":"IF(INDIRECT(\"'all'!\"&M$8&($A9+3))=0,\"\",INDIRECT(\"'all'!\"&M$8&($A9+3)))","v":""},"","","",{"$f":"IF(SUM(M9:P9)=0,\"\",SUM(M9:P9))","v":""},{"$f":"IF(INDIRECT(\"'all'!\"&R$8&($A9+3))=0,\"\",INDIRECT(\"'all'!\"&R$8&($A9+3)))","v":""},"","","","","","",null,null,null,null,null,null,null,null,null,null,null,null,null,{"$f":"ROUNDUP(((FirstPartDegrees1!#REF!+#REF!)/2+(FirstPartDegrees1!E9+#REF!)/2+(FirstPartDegrees1!#REF!+#REF!)/2+(FirstPartDegrees1!C9+#REF!)/2 )/4,0)","v":{"$error":"#REF!"}},{"$f":"ROUNDUP(((FirstPartDegrees1!#REF!+FirstPartDegrees1!#REF!)/2+(FirstPartDegrees1!F9+#REF!)/2+(FirstPartDegrees1!#REF!+#REF!)/2+(FirstPartDegrees1!#REF!+#REF!)/2 )/4,0)","v":{"$error":"#REF!"}},{"$f":"ROUNDUP(((FirstPartDegrees1!#REF!+FirstPartDegrees1!J9)/2+(FirstPartDegrees1!#REF!+FirstPartDegrees1!#REF!)/2+(FirstPartDegrees1!#REF!+AU9)/2+(AV9+#REF!)/2)/4,0)","v":{"$error":"#REF!"}},{"$f":"(AN9+AAE9+AL9)*40/12","v":{"$error":"#REF!"}}]
[2,"","","","","","","","","","","","","","","","","","","","","","","",null,null,null,null,null,null,null,null,null,null,null,null,null,{"$f":"ROUNDUP(((FirstPartDegrees1!#REF!+#REF!)/2+(FirstPartDegrees1!E11+#REF!)/2+(FirstPartDegrees1!#REF!+#REF!)/2+(FirstPartDegrees1!C11+#REF!)/2 )/4,0)","v":{"$error":"#REF!"}},{"$f":"ROUNDUP(((FirstPartDegrees1!#REF!+FirstPartDegrees1!#REF!)/2+(FirstPartDegrees1!F11+X7)/2+(FirstPartDegrees1!#REF!+#REF!)/2+(FirstPartDegrees1!#REF!+#REF!)/2 )/4,0)","v":{"$error":"#REF!"}},{"$f":"ROUNDUP(((FirstPartDegrees1!#REF!+FirstPartDegrees1!J11)/2+(FirstPartDegrees1!#REF!+FirstPartDegrees1!#REF!)/2+(FirstPartDegrees1!#REF!+AU10)/2+(AV10+#REF!)/2)/4,0)","v":{"$error":"#REF!"}},{"$f":"(AN10+AAE10+AL10)*40/12","v":{"$error":"#REF!"}}]
[3,"","","","","","","","","","","","","","","","","","","","","","","",null,null,null,null,null,null,null,null,null,null,null,null,null,{"$f":"ROUNDUP(((FirstPartDegrees1!#REF!+#REF!)/2+(FirstPartDegrees1!E11+#REF!)/2+(FirstPartDegrees1!#REF!+#REF!)/2+(FirstPartDegrees1!C11+#REF!)/2 )/4,0)","v":{"$error":"#REF!"}},{"$f":"ROUNDUP(((FirstPartDegrees1!#REF!+FirstPartDegrees1!#REF!)/2+(FirstPartDegrees1!F11+X9)/2+(FirstPartDegrees1!#REF!+#REF!)/2+(FirstPartDegrees1!#REF!+#REF!)/2 )/4,0)","v":{"$error":"#REF!"}},{"$f":"ROUNDUP(((FirstPartDegrees1!#REF!+FirstPartDegrees1!J11)/2+(FirstPartDegrees1!#REF!+FirstPartDegrees1!#REF!)/2+(FirstPartDegrees1!#REF!+AU11)/2+(AV11+#REF!)/2)/4,0)","v":{"$error":"#REF!"}},{"$f":"(AN11+AAE11+AL11)*40/12","v":{"$error":"#REF!"}}]
[4,"","","","","","","","","","","","","","","","","","","","","","","",null,null,null,null,null,null,null,null,null,null,null,null,null,{"$f":"ROUNDUP(((FirstPartDegrees1!#REF!+#REF!)/2+(FirstPartDegrees1!E13+#REF!)/2+(FirstPartDegrees1!#REF!+#REF!)/2+(FirstPartDegrees1!C13+#REF!)/2 )/4,0)","v":{"$error":"#REF!"}},{"$f":"ROUNDUP(((FirstPartDegrees1!#REF!+FirstPartDegrees1!#REF!)/2+(FirstPartDegrees1!F13+X10)/2+(FirstPartDegrees1!#REF!+#REF!)/2+(FirstPartDegrees1!#REF!+#REF!)/2 )/4,0)","v":{"$error":"#REF!"}},{"$f":"ROUNDUP(((FirstPartDegrees1!#REF!+FirstPartDegrees1!J13)/2+(FirstPartDegrees1!#REF!+FirstPartDegrees1!#REF!)/2+(FirstPartDegrees1!#REF!+AU12)/2+(AV12+#REF!)/2)/4,0)","v":{"$error":"#REF!"}},{"$f":"(AN12+AAE12+AL12)*40/12","v":{"$error":"#REF!"}}]
[5,"","","","","","","","","","","","","","","","","","","","","","",""]
[6,"","","","","","","","","","","","","","","","","","","","","","",""]
[7,"","","","","","","","","","","","","","","","","","","","","","",""]
[8,"","","","","","","","","","","","","","","","","","","","","","",""]
[9,"","","","","","","","","","","","","","","","","","","","","","",""]
[10,"","","","","","","","","","","","","","","","","","","","","","",""]
[11,"","","","","","","","","","","","","","","","",{"$f":"IF(INDIRECT(\"'all'!\"&R$8&($A19+3))=0,\"\",INDIRECT(\"'all'!\"&R$8&($A19+3)))","v":""},"","","","","",""]
[12,"","","","","","","","","","","","","","","","","","","","","","",""]
[13,"","","","","","","","","","","","","","","","","","","","","","",""]
[14,"","","","","","","","","","","","","","","","","","","","","","",""]
[15,"","","","","","","","","","","","","","","","","","","","","","",""]
[16,"","","","","","","","","","","","","","","","","","","","","","",""]
[17,"","","","","","","","","","","","","","","","","","","","","","",""]
[18,"","","","","","","","","","","","","","","","","","","","","","",""]
[19,"","","","","","","","","","","","","","","","","","","","","","",""]
[20,"","","","","","","","","","","","","","","","","","","","","","",""]
[21,"",{"$f":"IF(INDIRECT(\"'all'!\"&C$8&($A29+3))=0,\"\",INDIRECT(\"'all'!\"&C$8&($A29+3)))","v":""},"","","","",{"$f":"IF(INDIRECT(\"'all'!\"&H$8&($A29+3))=0,\"\",INDIRECT(\"'all'!\"&H$8&($A29+3)))","v":""},"","","","",{"$f":"IF(INDIRECT(\"'all'!\"&M$8&($A29+3))=0,\"\",INDIRECT(\"'all'!\"&M$8&($A29+3)))","v":""},"","","","",{"$f":"IF(INDIRECT(\"'all'!\"&R$8&($A29+3))=0,\"\",INDIRECT(\"'all'!\"&R$8&($A29+3)))","v":""},"","","","","",""]
[22,"","","","","","","","","","","","","","","","","","","","","","",""]
[23,"","","","","","","","","","","","","","","","","","","","","","",""]
[24,"","","","","","","","","","","","","","","","","","","","","","",""]
[25,"","","","","","","","","","","","","","","","","","","","","","",""]
[26,"","","","","","","","","","","","","","","","","","","","","","",""]
[27,"","","","","","","","","","","","","","","","","","","","","","",""]
[28,"","","","","","","","","","","","","","","","","","","","","","",""]
[29,"","","","","","","","","","","","","","","","","","","","","","",""]
[30,"","","","","","","","","","","","","","","","","","","","","","",""]
[31,"","","","","","","","","","","","","","","","",{"$f":"IF(INDIRECT(\"'all'!\"&R$8&($A39+3))=0,\"\",INDIRECT(\"'all'!\"&R$8&($A39+3)))","v":""},"","","","","",""]
[32,"","","","","","","","","","","","","","","","","","","","","","",""]
[33,{"$f":"IF(INDIRECT(ADDRESS(A41+3,2,4,1,\"all\"))=\"\",\"\",INDIRECT(ADDRESS(A41+3,2,4,1,\"all\")))","v":""},"","","","",{"$f":"IF(SUM(C41:F41)=0,\"\",SUM(C41:F41))","v":""},"","","","",{"$f":"IF(SUM(H41:K41)=0,\"\",SUM(H41:K41))","v":""},"","","","",{"$f":"IF(SUM(M41:P41)=0,\"\",SUM(M41:P41))","v":""},"","","","","","",""]
[34,"","","","","","","","","","","","","","","","","","","","","","",""]
[35,"","","","","","","","","","","","","","","","","","","","","","",""]
[36,"","","","","","","","","","","","","","","","","","","","","","",""]
[37,"","","","","","","","","","","","","","","","","","","","","","",""]
[38,"","","","","","","","","","","","","","","","","","","","","","",""]
[39,"","","","","","","","","","","","","","","","","","","","","","",""]
[40,"","","","","","","","","","","","","","","","","","","","","","",""]
[41,"",{"$f":"IF(INDIRECT(\"'all'!\"&C$8&($A49+3))=0,\"\",INDIRECT(\"'all'!\"&C$8&($A49+3)))","v":""},"","","","",{"$f":"IF(INDIRECT(\"'all'!\"&H$8&($A49+3))=0,\"\",INDIRECT(\"'all'!\"&H$8&($A49+3)))","v":""},"","","","",{"$f":"IF(INDIRECT(\"'all'!\"&M$8&($A49+3))=0,\"\",INDIRECT(\"'all'!\"&M$8&($A49+3)))","v":""},"","","","",{"$f":"IF(INDIRECT(\"'all'!\"&R$8&($A49+3))=0,\"\",INDIRECT(\"'all'!\"&R$8&($A49+3)))","v":""},"","","","","",""]
[42,"","","","","","","","","","","","","","","","","","","","","","",""]
[43,"","","","","","","","","","","","","","","","","","","","","","",""]
[44,"","","","","","","","","","","","","","","","","","","","","","",""]
[45,"","","","","","","","","","","","","","","","","","","","","","",""]
[46,"","","","","","","","","","","","","","","","","","","","","","",""]
[47,"","","","","","","","","","","","","","","","","","","","","","",""]
[48,"","","","","","","","","","","","","","","","","","","","","","",""]
[49,"","","","","","","","","","","","","","","","","","","","","","",""]
[50,"","","","","","","","","","","","","","","","","","","","","","",""]
[51,"","","","","","","","","","","","","","","","",{"$f":"IF(INDIRECT(\"'all'!\"&R$8&($A59+3))=0,\"\",INDIRECT(\"'all'!\"&R$8&($A59+3)))","v":""},"","","","","",""]
[52,"","","","","","","","","","","","","","","","","","","","","","",""]
[53,"","","","","","","","","","","","","","","","","","","","","","",""]
[54,"","","","","","","","","","","","","","","","","","","","","","",""]
[55,"","","","","","","","","","","","","","","","","","","","","","",""]
[56,"","","","","","","","","","","","","","","","","","","","","","",""]
[57,"","","","","","","","","","","","","","","","","","","","","","",""]
[58,"","","","","","","","","","","","","","","","","","","","","","",""]
[59,"","","","","","","","","","","","","","","","","","","","","","",""]
[60,"","","","","","","","","","","","","","","","","","","","","","",""]
[61,"",{"$f":"IF(INDIRECT(\"'all'!\"&C$8&($A69+3))=0,\"\",INDIRECT(\"'all'!\"&C$8&($A69+3)))","v":""},"","","","",{"$f":"IF(INDIRECT(\"'all'!\"&H$8&($A69+3))=0,\"\",INDIRECT(\"'all'!\"&H$8&($A69+3)))","v":""},"","","","",{"$f":"IF(INDIRECT(\"'all'!\"&M$8&($A69+3))=0,\"\",INDIRECT(\"'all'!\"&M$8&($A69+3)))","v":""},"","","","",{"$f":"IF(INDIRECT(\"'all'!\"&R$8&($A69+3))=0,\"\",INDIRECT(\"'all'!\"&R$8&($A69+3)))","v":""},"","","","","",""]
[62,"","","","","","","","","","","","","","","","","","","","","","",""]
[63,"","","","","","","","","","","","","","","","","","","","","","",""]
[64,"","","","","","","","","","","","","","","","","","","","","","",""]
[65,{"$f":"IF(INDIRECT(ADDRESS(A73+3,2,4,1,\"all\"))=\"\",\"\",INDIRECT(ADDRESS(A73+3,2,4,1,\"all\")))","v":""},"","","","",{"$f":"IF(SUM(C73:F73)=0,\"\",SUM(C73:F73))","v":""},"","","","",{"$f":"IF(SUM(H73:K73)=0,\"\",SUM(H73:K73))","v":""},"","","","",{"$f":"IF(SUM(M73:P73)=0,\"\",SUM(M73:P73))","v":""},"","","","","","",""]
[66,"","","","","","","","","","","","","","","","","","","","","","",""]
[67,"","","","","","","","","","","","","","","","","","","","","","",""]
[68,"","","","","","","","","","","","","","","","","","","","","","",""]
[69,"","","","","","","","","","","","","","","","","","","","","","",""]
[70,"","","","","","","","","","","","","","","","","","","","","","",""]

{"sheet":"report2","index":5,"n_rows":81,"n_cols":6,"rows_kept":81,"cut":false,"hidden":false,"merged":[[7,2,7,5],[5,16355,5,16356],[6,2,6,5],[5,16343,5,16344],[5,16345,5,16346],[5,16347,5,16348],[5,16349,5,16350],[5,16351,5,16352],[5,16353,5,16354],[5,16331,5,16332],[5,16333,5,16334],[5,16335,5,16336],[5,16337,5,16338],[5,16339,5,16340],[5,16341,5,16342],[5,16319,5,16320],[5,16321,5,16322],[5,16323,5,16324],[5,16325,5,16326],[5,16327,5,16328],[5,16329,5,16330],[5,16307,5,16308],[5,16309,5,16310],[5,16311,5,16312],[5,16313,5,16314],[5,16315,5,16316],[5,16317,5,16318],[5,16295,5,16296],[5,16297,5,16298],[5,16299,5,16300],[5,16301,5,16302],[5,16303,5,16304],[5,16305,5,16306],[5,16283,5,16284],[5,16285,5,16286],[5,16287,5,16288],[5,16289,5,16290],[5,16291,5,16292],[5,16293,5,16294],[5,16271,5,16272],[5,16273,5,16274],[5,16275,5,16276],[5,16277,5,16278],[5,16279,5,16280],[5,16281,5,16282],[5,16259,5,16260],[5,16261,5,16262],[5,16263,5,16264],[5,16265,5,16266],[5,16267,5,16268],[5,16269,5,16270],[5,16247,5,16248],[5,16249,5,16250],[5,16251,5,16252],[5,16253,5,16254],[5,16255,5,16256],[5,16257,5,16258],[5,16235,5,16236],[5,16237,5,16238],[5,16239,5,16240],[5,16241,5,16242],[5,16243,5,16244],[5,16245,5,16246],[5,16223,5,16224],[5,16225,5,16226],[5,16227,5,16228],[5,16229,5,16230],[5,16231,5,16232],[5,16233,5,16234],[5,16211,5,16212],[5,16213,5,16214],[5,16215,5,16216],[5,16217,5,16218],[5,16219,5,16220],[5,16221,5,16222],[5,16199,5,16200],[5,16201,5,16202],[5,16203,5,16204],[5,16205,5,16206],[5,16207,5,16208],[5,16209,5,16210],[5,16187,5,16188],[5,16189,5,16190],[5,16191,5,16192],[5,16193,5,16194],[5,16195,5,16196],[5,16197,5,16198],[5,16175,5,16176],[5,16177,5,16178],[5,16179,5,16180],[5,16181,5,16182],[5,16183,5,16184],[5,16185,5,16186],[5,16163,5,16164],[5,16165,5,16166],[5,16167,5,16168],[5,16169,5,16170],[5,16171,5,16172],[5,16173,5,16174],[5,16151,5,16152],[5,16153,5,16154],[5,16155,5,16156],[5,16157,5,16158],[5,16159,5,16160],[5,16161,5,16162],[5,16139,5,16140],[5,16141,5,16142],[5,16143,5,16144],[5,16145,5,16146],[5,16147,5,16148],[5,16149,5,16150],[5,16127,5,16128],[5,16129,5,16130],[5,16131,5,16132],[5,16133,5,16134],[5,16135,5,16136],[5,16137,5,16138],[5,16115,5,16116],[5,16117,5,16118],[5,16119,5,16120],[5,16121,5,16122],[5,16123,5,16124],[5,16125,5,16126],[5,16103,5,16104],[5,16105,5,16106],[5,16107,5,16108],[5,16109,5,16110],[5,16111,5,16112],[5,16113,5,16114],[5,16091,5,16092],[5,16093,5,16094],[5,16095,5,16096],[5,16097,5,16098],[5,16099,5,16100],[5,16101,5,16102],[5,16079,5,16080],[5,16081,5,16082],[5,16083,5,16084],[5,16085,5,16086],[5,16087,5,16088],[5,16089,5,16090],[5,16067,5,16068],[5,16069,5,16070],[5,16071,5,16072],[5,16073,5,16074],[5,16075,5,16076],[5,16077,5,16078],[5,16055,5,16056],[5,16057,5,16058],[5,16059,5,16060],[5,16061,5,16062],[5,16063,5,16064],[5,16065,5,16066],[5,16043,5,16044],[5,16045,5,16046],[5,16047,5,16048],[5,16049,5,16050],[5,16051,5,16052],[5,16053,5,16054],[5,16031,5,16032],[5,16033,5,16034],[5,16035,5,16036],[5,16037,5,16038],[5,16039,5,16040],[5,16041,5,16042],[5,16019,5,16020],[5,16021,5,16022],[5,16023,5,16024],[5,16025,5,16026],[5,16027,5,16028],[5,16029,5,16030],[5,16007,5,16008],[5,16009,5,16010],[5,16011,5,16012],[5,16013,5,16014],[5,16015,5,16016],[5,16017,5,16018],[5,15995,5,15996],[5,15997,5,15998],[5,15999,5,16000],[5,16001,5,16002],[5,16003,5,16004],[5,16005,5,16006],[5,15983,5,15984],[5,15985,5,15986],[5,15987,5,15988],[5,15989,5,15990],[5,15991,5,15992],[5,15993,5,15994],[5,15971,5,15972],[5,15973,5,15974],[5,15975,5,15976],[5,15977,5,15978],[5,15979,5,15980],[5,15981,5,15982],[5,15959,5,15960],[5,15961,5,15962],[5,15963,5,15964],[5,15965,5,15966],[5,15967,5,15968],[5,15969,5,15970],[5,15947,5,15948],[5,15949,5,15950],[5,15951,5,15952],[5,15953,5,15954],[5,15955,5,15956],[5,15957,5,15958],[5,15935,5,15936],[5,15937,5,15938],[5,15939,5,15940],[5,15941,5,15942],[5,15943,5,15944],[5,15945,5,15946],[5,15923,5,15924],[5,15925,5,15926],[5,15927,5,15928],[5,15929,5,15930],[5,15931,5,15932],[5,15933,5,15934],[5,15911,5,15912],[5,15913,5,15914],[5,15915,5,15916],[5,15917,5,15918],[5,15919,5,15920],[5,15921,5,15922],[5,15899,5,15900],[5,15901,5,15902],[5,15903,5,15904],[5,15905,5,15906],[5,15907,5,15908],[5,15909,5,15910],[5,15887,5,15888],[5,15889,5,15890],[5,15891,5,15892],[5,15893,5,15894],[5,15895,5,15896],[5,15897,5,15898],[5,15875,5,15876],[5,15877,5,15878],[5,15879,5,15880],[5,15881,5,15882],[5,15883,5,15884],[5,15885,5,15886],[5,15863,5,15864],[5,15865,5,15866],[5,15867,5,15868],[5,15869,5,15870],[5,15871,5,15872],[5,15873,5,15874],[5,15851,5,15852],[5,15853,5,15854],[5,15855,5,15856],[5,15857,5,15858],[5,15859,5,15860],[5,15861,5,15862],[5,15839,5,15840],[5,15841,5,15842],[5,15843,5,15844],[5,15845,5,15846],[5,15847,5,15848],[5,15849,5,15850],[5,15827,5,15828],[5,15829,5,15830],[5,15831,5,15832],[5,15833,5,15834],[5,15835,5,15836],[5,15837,5,15838],[5,15815,5,15816],[5,15817,5,15818],[5,15819,5,15820],[5,15821,5,15822],[5,15823,5,15824],[5,15825,5,15826],[5,15803,5,15804],[5,15805,5,15806],[5,15807,5,15808],[5,15809,5,15810],[5,15811,5,15812],[5,15813,5,15814],[5,15791,5,15792],[5,15793,5,15794],[5,15795,5,15796],[5,15797,5,15798],[5,15799,5,15800],[5,15801,5,15802],[5,15779,5,15780],[5,15781,5,15782],[5,15783,5,15784],[5,15785,5,15786],[5,15787,5,15788],[5,15789,5,15790],[5,15767,5,15768],[5,15769,5,15770],[5,15771,5,15772],[5,15773,5,15774],[5,15775,5,15776],[5,15777,5,15778],[5,15755,5,15756],[5,15757,5,15758],[5,15759,5,15760],[5,15761,5,15762],[5,15763,5,15764],[5,15765,5,15766],[5,15743,5,15744],[5,15745,5,15746],[5,15747,5,15748],[5,15749,5,15750],[5,15751,5,15752],[5,15753,5,15754],[5,15731,5,15732],[5,15733,5,15734],[5,15735,5,15736],[5,15737,5,15738],[5,15739,5,15740],[5,15741,5,15742],[5,15719,5,15720],[5,15721,5,15722],[5,15723,5,15724],[5,15725,5,15726],[5,15727,5,15728],[5,15729,5,15730],[5,15707,5,15708],[5,15709,5,15710],[5,15711,5,15712],[5,15713,5,15714],[5,15715,5,15716],[5,15717,5,15718],[5,15695,5,15696],[5,15697,5,15698],[5,15699,5,15700],[5,15701,5,15702],[5,15703,5,15704],[5,15705,5,15706],[5,15683,5,15684],[5,15685,5,15686],[5,15687,5,15688],[5,15689,5,15690],[5,15691,5,15692],[5,15693,5,15694],[5,15671,5,15672],[5,15673,5,15674],[5,15675,5,15676],[5,15677,5,15678],[5,15679,5,15680],[5,15681,5,15682],[5,15659,5,15660],[5,15661,5,15662],[5,15663,5,15664],[5,15665,5,15666],[5,15667,5,15668],[5,15669,5,15670],[5,15647,5,15648],[5,15649,5,15650],[5,15651,5,15652],[5,15653,5,15654],[5,15655,5,15656],[5,15657,5,15658],[5,15635,5,15636],[5,15637,5,15638],[5,15639,5,15640],[5,15641,5,15642],[5,15643,5,15644],[5,15645,5,15646],[5,15623,5,15624],[5,15625,5,15626],[5,15627,5,15628],[5,15629,5,15630],[5,15631,5,15632],[5,15633,5,15634],[5,15611,5,15612],[5,15613,5,15614],[5,15615,5,15616],[5,15617,5,15618],[5,15619,5,15620],[5,15621,5,15622],[5,15599,5,15600],[5,15601,5,15602],[5,15603,5,15604],[5,15605,5,15606],[5,15607,5,15608],[5,15609,5,15610],[5,15587,5,15588],[5,15589,5,15590],[5,15591,5,15592],[5,15593,5,15594],[5,15595,5,15596],[5,15597,5,15598],[5,15575,5,15576],[5,15577,5,15578],[5,15579,5,15580],[5,15581,5,15582],[5,15583,5,15584],[5,15585,5,15586],[5,15563,5,15564],[5,15565,5,15566],[5,15567,5,15568],[5,15569,5,15570],[5,15571,5,15572],[5,15573,5,15574],[5,15551,5,15552],[5,15553,5,15554],[5,15555,5,15556],[5,15557,5,15558],[5,15559,5,15560],[5,15561,5,15562],[5,15539,5,15540],[5,15541,5,15542],[5,15543,5,15544],[5,15545,5,15546],[5,15547,5,15548],[5,15549,5,15550],[5,15527,5,15528],[5,15529,5,15530],[5,15531,5,15532],[5,15533,5,15534],[5,15535,5,15536],[5,15537,5,15538],[5,15515,5,15516],[5,15517,5,15518],[5,15519,5,15520],[5,15521,5,15522],[5,15523,5,15524],[5,15525,5,15526],[5,15503,5,15504],[5,15505,5,15506],[5,15507,5,15508],[5,15509,5,15510],[5,15511,5,15512],[5,15513,5,15514],[5,15491,5,15492],[5,15493,5,15494],[5,15495,5,15496],[5,15497,5,15498],[5,15499,5,15500],[5,15501,5,15502],[5,15479,5,15480],[5,15481,5,15482],[5,15483,5,15484],[5,15485,5,15486],[5,15487,5,15488],[5,15489,5,15490],[5,15467,5,15468],[5,15469,5,15470],[5,15471,5,15472],[5,15473,5,15474],[5,15475,5,15476],[5,15477,5,15478],[5,15455,5,15456],[5,15457,5,15458],[5,15459,5,15460],[5,15461,5,15462],[5,15463,5,15464],[5,15465,5,15466],[5,15443,5,15444],[5,15445,5,15446],[5,15447,5,15448],[5,15449,5,15450],[5,15451,5,15452],[5,15453,5,15454],[5,15431,5,15432],[5,15433,5,15434],[5,15435,5,15436],[5,15437,5,15438],[5,15439,5,15440],[5,15441,5,15442],[5,15419,5,15420],[5,15421,5,15422],[5,15423,5,15424],[5,15425,5,15426],[5,15427,5,15428],[5,15429,5,15430],[5,15407,5,15408],[5,15409,5,15410],[5,15411,5,15412],[5,15413,5,15414],[5,15415,5,15416],[5,15417,5,15418],[5,15395,5,15396],[5,15397,5,15398],[5,15399,5,15400],[5,15401,5,15402],[5,15403,5,15404],[5,15405,5,15406],[5,15383,5,15384],[5,15385,5,15386],[5,15387,5,15388],[5,15389,5,15390],[5,15391,5,15392],[5,15393,5,15394],[5,15371,5,15372],[5,15373,5,15374],[5,15375,5,15376],[5,15377,5,15378],[5,15379,5,15380],[5,15381,5,15382],[5,15359,5,15360],[5,15361,5,15362],[5,15363,5,15364],[5,15365,5,15366],[5,15367,5,15368],[5,15369,5,15370],[5,15347,5,15348],[5,15349,5,15350],[5,15351,5,15352],[5,15353,5,15354],[5,15355,5,15356],[5,15357,5,15358],[5,15335,5,15336],[5,15337,5,15338],[5,15339,5,15340],[5,15341,5,15342],[5,15343,5,15344],[5,15345,5,15346],[5,15323,5,15324],[5,15325,5,15326],[5,15327,5,15328],[5,15329,5,15330],[5,15331,5,15332],[5,15333,5,15334],[5,15311,5,15312],[5,15313,5,15314],[5,15315,5,15316],[5,15317,5,15318],[5,15319,5,15320],[5,15321,5,15322],[5,15299,5,15300],[5,15301,5,15302],[5,15303,5,15304],[5,15305,5,15306],[5,15307,5,15308],[5,15309,5,15310],[5,15287,5,15288],[5,15289,5,15290],[5,15291,5,15292],[5,15293,5,15294],[5,15295,5,15296],[5,15297,5,15298],[5,15275,5,15276],[5,15277,5,15278],[5,15279,5,15280],[5,15281,5,15282],[5,15283,5,15284],[5,15285,5,15286],[5,15263,5,15264],[5,15265,5,15266],[5,15267,5,15268],[5,15269,5,15270],[5,15271,5,15272],[5,15273,5,15274],[5,15251,5,15252],[5,15253,5,15254],[5,15255,5,15256],[5,15257,5,15258],[5,15259,5,15260],[5,15261,5,15262],[5,15239,5,15240],[5,15241,5,15242],[5,15243,5,15244],[5,15245,5,15246],[5,15247,5,15248],[5,15249,5,15250],[5,15227,5,15228],[5,15229,5,15230],[5,15231,5,15232],[5,15233,5,15234],[5,15235,5,15236],[5,15237,5,15238],[5,15215,5,15216],[5,15217,5,15218],[5,15219,5,15220],[5,15221,5,15222],[5,15223,5,15224],[5,15225,5,15226],[5,15203,5,15204],[5,15205,5,15206],[5,15207,5,15208],[5,15209,5,15210],[5,15211,5,15212],[5,15213,5,15214],[5,15191,5,15192],[5,15193,5,15194],[5,15195,5,15196],[5,15197,5,15198],[5,15199,5,15200],[5,15201,5,15202],[5,15179,5,15180],[5,15181,5,15182],[5,15183,5,15184],[5,15185,5,15186],[5,15187,5,15188],[5,15189,5,15190],[5,15167,5,15168],[5,15169,5,15170],[5,15171,5,15172],[5,15173,5,15174],[5,15175,5,15176],[5,15177,5,15178],[5,15155,5,15156],[5,15157,5,15158],[5,15159,5,15160],[5,15161,5,15162],[5,15163,5,15164],[5,15165,5,15166],[5,15143,5,15144],[5,15145,5,15146],[5,15147,5,15148],[5,15149,5,15150],[5,15151,5,15152],[5,15153,5,15154],[5,15131,5,15132],[5,15133,5,15134],[5,15135,5,15136],[5,15137,5,15138],[5,15139,5,15140],[5,15141,5,15142],[5,15119,5,15120],[5,15121,5,15122],[5,15123,5,15124],[5,15125,5,15126],[5,15127,5,15128],[5,15129,5,15130],[5,15107,5,15108],[5,15109,5,15110],[5,15111,5,15112],[5,15113,5,15114],[5,15115,5,15116],[5,15117,5,15118],[5,15095,5,15096],[5,15097,5,15098],[5,15099,5,15100],[5,15101,5,15102],[5,15103,5,15104],[5,15105,5,15106],[5,15083,5,15084],[5,15085,5,15086],[5,15087,5,15088],[5,15089,5,15090],[5,15091,5,15092],[5,15093,5,15094],[5,15071,5,15072],[5,15073,5,15074],[5,15075,5,15076],[5,15077,5,15078],[5,15079,5,15080],[5,15081,5,15082],[5,15059,5,15060],[5,15061,5,15062],[5,15063,5,15064],[5,15065,5,15066],[5,15067,5,15068],[5,15069,5,15070],[5,15047,5,15048],[5,15049,5,15050],[5,15051,5,15052],[5,15053,5,15054],[5,15055,5,15056],[5,15057,5,15058],[5,15035,5,15036],[5,15037,5,15038],[5,15039,5,15040],[5,15041,5,15042],[5,15043,5,15044],[5,15045,5,15046],[5,15023,5,15024],[5,15025,5,15026],[5,15027,5,15028],[5,15029,5,15030],[5,15031,5,15032],[5,15033,5,15034],[5,15011,5,15012],[5,15013,5,15014],[5,15015,5,15016],[5,15017,5,15018],[5,15019,5,15020],[5,15021,5,15022],[5,14999,5,15000],[5,15001,5,15002],[5,15003,5,15004],[5,15005,5,15006],[5,15007,5,15008],[5,15009,5,15010],[5,14987,5,14988],[5,14989,5,14990],[5,14991,5,14992],[5,14993,5,14994],[5,14995,5,14996],[5,14997,5,14998],[5,14975,5,14976],[5,14977,5,14978],[5,14979,5,14980],[5,14981,5,14982],[5,14983,5,14984],[5,14985,5,14986],[5,14963,5,14964],[5,14965,5,14966],[5,14967,5,14968],[5,14969,5,14970],[5,14971,5,14972],[5,14973,5,14974],[5,14951,5,14952],[5,14953,5,14954],[5,14955,5,14956],[5,14957,5,14958],[5,14959,5,14960],[5,14961,5,14962],[5,14939,5,14940],[5,14941,5,14942],[5,14943,5,14944],[5,14945,5,14946],[5,14947,5,14948],[5,14949,5,14950],[5,14927,5,14928],[5,14929,5,14930],[5,14931,5,14932],[5,14933,5,14934],[5,14935,5,14936],[5,14937,5,14938],[5,14915,5,14916],[5,14917,5,14918],[5,14919,5,14920],[5,14921,5,14922],[5,14923,5,14924],[5,14925,5,14926],[5,14903,5,14904],[5,14905,5,14906],[5,14907,5,14908],[5,14909,5,14910],[5,14911,5,14912],[5,14913,5,14914],[5,14891,5,14892],[5,14893,5,14894],[5,14895,5,14896],[5,14897,5,14898],[5,14899,5,14900],[5,14901,5,14902],[5,14879,5,14880],[5,14881,5,14882],[5,14883,5,14884],[5,14885,5,14886],[5,14887,5,14888],[5,14889,5,14890],[5,14867,5,14868],[5,14869,5,14870],[5,14871,5,14872],[5,14873,5,14874],[5,14875,5,14876],[5,14877,5,14878],[5,14855,5,14856],[5,14857,5,14858],[5,14859,5,14860],[5,14861,5,14862],[5,14863,5,14864],[5,14865,5,14866],[5,14843,5,14844],[5,14845,5,14846],[5,14847,5,14848],[5,14849,5,14850],[5,14851,5,14852],[5,14853,5,14854],[5,14831,5,14832],[5,14833,5,14834],[5,14835,5,14836],[5,14837,5,14838],[5,14839,5,14840],[5,14841,5,14842],[5,14819,5,14820],[5,14821,5,14822],[5,14823,5,14824],[5,14825,5,14826],[5,14827,5,14828],[5,14829,5,14830],[5,14807,5,14808],[5,14809,5,14810],[5,14811,5,14812],[5,14813,5,14814],[5,14815,5,14816],[5,14817,5,14818],[5,14795,5,14796],[5,14797,5,14798],[5,14799,5,14800],[5,14801,5,14802],[5,14803,5,14804],[5,14805,5,14806],[5,14783,5,14784],[5,14785,5,14786],[5,14787,5,14788],[5,14789,5,14790],[5,14791,5,14792],[5,14793,5,14794],[5,14771,5,14772],[5,14773,5,14774],[5,14775,5,14776],[5,14777,5,14778],[5,14779,5,14780],[5,14781,5,14782],[5,14759,5,14760],[5,14761,5,14762],[5,14763,5,14764],[5,14765,5,14766],[5,14767,5,14768],[5,14769,5,14770],[5,14747,5,14748],[5,14749,5,14750],[5,14751,5,14752],[5,14753,5,14754],[5,14755,5,14756],[5,14757,5,14758],[5,14735,5,14736],[5,14737,5,14738],[5,14739,5,14740],[5,14741,5,14742],[5,14743,5,14744],[5,14745,5,14746],[5,14723,5,14724],[5,14725,5,14726],[5,14727,5,14728],[5,14729,5,14730],[5,14731,5,14732],[5,14733,5,14734],[5,14711,5,14712],[5,14713,5,14714],[5,14715,5,14716],[5,14717,5,14718],[5,14719,5,14720],[5,14721,5,14722],[5,14699,5,14700],[5,14701,5,14702],[5,14703,5,14704],[5,14705,5,14706],[5,14707,5,14708],[5,14709,5,14710],[5,14687,5,14688],[5,14689,5,14690],[5,14691,5,14692],[5,14693,5,14694],[5,14695,5,14696],[5,14697,5,14698],[5,14675,5,14676],[5,14677,5,14678],[5,14679,5,14680],[5,14681,5,14682],[5,14683,5,14684],[5,14685,5,14686],[5,14663,5,14664],[5,14665,5,14666],[5,14667,5,14668],[5,14669,5,14670],[5,14671,5,14672],[5,14673,5,14674],[5,14651,5,14652],[5,14653,5,14654],[5,14655,5,14656],[5,14657,5,14658],[5,14659,5,14660],[5,14661,5,14662],[5,14639,5,14640],[5,14641,5,14642],[5,14643,5,14644],[5,14645,5,14646],[5,14647,5,14648],[5,14649,5,14650],[5,14627,5,14628],[5,14629,5,14630],[5,14631,5,14632],[5,14633,5,14634],[5,14635,5,14636],[5,14637,5,14638],[5,14615,5,14616],[5,14617,5,14618],[5,14619,5,14620],[5,14621,5,14622],[5,14623,5,14624],[5,14625,5,14626],[5,14603,5,14604],[5,14605,5,14606],[5,14607,5,14608],[5,14609,5,14610],[5,14611,5,14612],[5,14613,5,14614],[5,14591,5,14592],[5,14593,5,14594],[5,14595,5,14596],[5,14597,5,14598],[5,14599,5,14600],[5,14601,5,14602],[5,14579,5,14580],[5,14581,5,14582],[5,14583,5,14584],[5,14585,5,14586],[5,14587,5,14588],[5,14589,5,14590],[5,14567,5,14568],[5,14569,5,14570],[5,14571,5,14572],[5,14573,5,14574],[5,14575,5,14576],[5,14577,5,14578],[5,14555,5,14556],[5,14557,5,14558],[5,14559,5,14560],[5,14561,5,14562],[5,14563,5,14564],[5,14565,5,14566],[5,14543,5,14544],[5,14545,5,14546],[5,14547,5,14548],[5,14549,5,14550],[5,14551,5,14552],[5,14553,5,14554],[5,14531,5,14532],[5,14533,5,14534],[5,14535,5,14536],[5,14537,5,14538],[5,14539,5,14540],[5,14541,5,14542],[5,14519,5,14520],[5,14521,5,14522],[5,14523,5,14524],[5,14525,5,14526],[5,14527,5,14528],[5,14529,5,14530],[5,14507,5,14508],[5,14509,5,14510],[5,14511,5,14512],[5,14513,5,14514],[5,14515,5,14516],[5,14517,5,14518],[5,14495,5,14496],[5,14497,5,14498],[5,14499,5,14500],[5,14501,5,14502],[5,14503,5,14504],[5,14505,5,14506],[5,14483,5,14484],[5,14485,5,14486],[5,14487,5,14488],[5,14489,5,14490],[5,14491,5,14492],[5,14493,5,14494],[5,14471,5,14472],[5,14473,5,14474],[5,14475,5,14476],[5,14477,5,14478],[5,14479,5,14480],[5,14481,5,14482],[5,14459,5,14460],[5,14461,5,14462],[5,14463,5,14464],[5,14465,5,14466],[5,14467,5,14468],[5,14469,5,14470],[5,14447,5,14448],[5,14449,5,14450],[5,14451,5,14452],[5,14453,5,14454],[5,14455,5,14456],[5,14457,5,14458],[5,14435,5,14436],[5,14437,5,14438],[5,14439,5,14440],[5,14441,5,14442],[5,14443,5,14444],[5,14445,5,14446],[5,14423,5,14424],[5,14425,5,14426],[5,14427,5,14428],[5,14429,5,14430],[5,14431,5,14432],[5,14433,5,14434],[5,14411,5,14412],[5,14413,5,14414],[5,14415,5,14416],[5,14417,5,14418],[5,14419,5,14420],[5,14421,5,14422],[5,14399,5,14400],[5,14401,5,14402],[5,14403,5,14404],[5,14405,5,14406],[5,14407,5,14408],[5,14409,5,14410],[5,14387,5,14388],[5,14389,5,14390],[5,14391,5,14392],[5,14393,5,14394],[5,14395,5,14396],[5,14397,5,14398],[5,14375,5,14376],[5,14377,5,14378],[5,14379,5,14380],[5,14381,5,14382],[5,14383,5,14384],[5,14385,5,14386],[5,14363,5,14364],[5,14365,5,14366],[5,14367,5,14368],[5,14369,5,14370],[5,14371,5,14372],[5,14373,5,14374],[5,14351,5,14352]],"merged_total":8181,"flags":["merged_cut"]}
[]
[]
[null,"وزارة     التربية",null,null,{"$f":"Basic!$B$8","v":"العام الدراسي : 2020-2019"}]
[null,{"$f":"Basic!$B$2","v":"منطقة مبارك الكبير التعليمية"},null,null,{"$f":"Basic!$B$10","v":"الفصل الدراسي الأول"}]
[null,{"$f":"Basic!$B$9","v":"مدرسة : "}]
[null,"قسم الحاسوب "]
[null,null,"كشـــف درجات نهاية الفصل الدراسي الاول "]
[null,null,{"$f":"Basic!$B$11","v":"الفصل 4-1"}]
[]
[null,"م","اسم المتعلم / المتعلمة","التقييم البنائي\n60","التقييم النهائي\n40","نهاية الفصل\n 100"]
[null,null,null,"T","W","X"]
[null,{"$f":"FirstPartDegrees2!$A9","v":1},{"$f":"IF(INDIRECT(ADDRESS(B12+3,2,4,1,\"all\"))=\"\",\"\",INDIRECT(ADDRESS(B12+3,2,4,1,\"all\")))","v":""},{"$f":"IF(INDIRECT(\"'all'!\"&D$11&($B12+3))=0,\"\",INDIRECT(\"'all'!\"&D$11&($B12+3)))","v":""},{"$f":"IF(INDIRECT(\"'all'!\"&E$11&($B12+3))=0,\"\",INDIRECT(\"'all'!\"&E$11&($B12+3)))","v":""},{"$f":"IF(INDIRECT(\"'all'!\"&F$11&($B12+3))=0,\"\",INDIRECT(\"'all'!\"&F$11&($B12+3)))","v":""}]
[null,{"$f":"FirstPartDegrees2!$A11","v":2},{"$f":"IF(INDIRECT(ADDRESS(B13+3,2,4,1,\"all\"))=\"\",\"\",INDIRECT(ADDRESS(B13+3,2,4,1,\"all\")))","v":""},{"$f":"IF(INDIRECT(\"'all'!\"&D$11&($B13+3))=0,\"\",INDIRECT(\"'all'!\"&D$11&($B13+3)))","v":""},"",""]
[null,{"$f":"FirstPartDegrees2!$A13","v":3},"","","",""]
[null,{"$f":"FirstPartDegrees2!$A15","v":4},"","","",""]
[null,{"$f":"FirstPartDegrees2!$A17","v":5},"","","",""]
[null,{"$f":"FirstPartDegrees2!$A19","v":6},"","","",""]
[null,{"$f":"FirstPartDegrees2!$A21","v":7},"","","",""]
[null,{"$f":"FirstPartDegrees2!$A23","v":8},"","","",""]
[null,{"$f":"FirstPartDegrees2!$A25","v":9},"","","",""]
[null,{"$f":"FirstPartDegrees2!$A27","v":10},"","","",""]
[null,{"$f":"FirstPartDegrees2!$A29","v":11},"","","",""]
[null,{"$f":"FirstPartDegrees2!$A31","v":12},"","","",""]
[null,{"$f":"FirstPartDegrees2!$A33","v":13},"","","",""]
[null,{"$f":"FirstPartDegrees2!$A35","v":14},"","","",""]
[null,{"$f":"FirstPartDegrees2!$A37","v":15},"","","",""]
[null,{"$f":"FirstPartDegrees2!$A39","v":16},"","","",""]
[null,{"$f":"FirstPartDegrees2!$A41","v":17},"","","",""]
[null,{"$f":"FirstPartDegrees2!$A43","v":18},"","","",""]
[null,{"$f":"FirstPartDegrees2!$A45","v":19},"","","",""]
[null,{"$f":"FirstPartDegrees2!$A47","v":20},"","","",""]
[null,{"$f":"FirstPartDegrees2!$A49","v":21},"","","",""]
[null,{"$f":"FirstPartDegrees2!$A51","v":22},"","","",""]
[null,{"$f":"FirstPartDegrees2!$A53","v":23},"","","",""]
[null,{"$f":"FirstPartDegrees2!$A55","v":24},"","","",""]
[null,{"$f":"FirstPartDegrees2!$A57","v":25},"","","",""]
[null,{"$f":"FirstPartDegrees2!$A59","v":26},"","","",""]
[null,{"$f":"FirstPartDegrees2!$A61","v":27},"","","",""]
[null,{"$f":"FirstPartDegrees2!$A63","v":28},"","","",""]
[null,{"$f":"FirstPartDegrees2!$A65","v":29},"","","",""]
[null,{"$f":"FirstPartDegrees2!$A67","v":30},"","","",""]
[null,{"$f":"FirstPartDegrees2!$A69","v":31},"","","",""]
[null,{"$f":"FirstPartDegrees2!$A71","v":32},"","","",""]
[null,{"$f":"FirstPartDegrees2!$A73","v":33},"","","",""]
[null,{"$f":"FirstPartDegrees2!$A75","v":34},"",{"$f":"IF(INDIRECT(\"'all'!\"&D$11&($B45+3))=0,\"\",INDIRECT(\"'all'!\"&D$11&($B45+3)))","v":""},"",""]
[null,{"$f":"FirstPartDegrees2!$A77","v":35},"","","",""]
[null,{"$f":"FirstPartDegrees2!$A79","v":36},"","","",""]
[null,{"$f":"FirstPartDegrees2!$A81","v":37},"","","",""]
[null,{"$f":"FirstPartDegrees2!$A83","v":38},"","","",""]
[null,{"$f":"FirstPartDegrees2!$A85","v":39},"","","",""]
[null,{"$f":"FirstPartDegrees2!$A87","v":40},"","","",""]
[null,{"$f":"FirstPartDegrees2!$A89","v":41},"","","",""]
[null,{"$f":"FirstPartDegrees2!$A91","v":42},"","","",""]
[null,{"$f":"FirstPartDegrees2!$A93","v":43},"","","",""]
[null,{"$f":"FirstPartDegrees2!$A95","v":44},"","","",""]
[null,{"$f":"FirstPartDegrees2!$A97","v":45},"","","",""]
[null,{"$f":"FirstPartDegrees2!$A99","v":46},"","","",""]
[null,{"$f":"FirstPartDegrees2!$A101","v":47},"","","",""]
[null,{"$f":"FirstPartDegrees2!$A103","v":48},"","","",""]
[null,{"$f":"FirstPartDegrees2!$A105","v":49},"","","",""]
[null,{"$f":"FirstPartDegrees2!$A107","v":50},"","","",""]
[null,{"$f":"FirstPartDegrees2!$A109","v":51},"","","",""]
[null,{"$f":"FirstPartDegrees2!$A111","v":52},"","","",""]
[null,{"$f":"FirstPartDegrees2!$A113","v":53},"","","",""]
[null,{"$f":"FirstPartDegrees2!$A115","v":54},"","","",""]
[null,{"$f":"FirstPartDegrees2!$A117","v":55},"","","",""]
[null,{"$f":"FirstPartDegrees2!$A119","v":56},"","","",""]
[null,{"$f":"FirstPartDegrees2!$A121","v":57},"","","",""]
[null,{"$f":"FirstPartDegrees2!$A123","v":58},"","","",""]
[null,{"$f":"FirstPartDegrees2!$A125","v":59},"","","",""]
[null,{"$f":"FirstPartDegrees2!$A127","v":60},"","","",""]
[null,{"$f":"FirstPartDegrees2!$A129","v":61},"","","",""]
[null,{"$f":"FirstPartDegrees2!$A131","v":62},"","","",""]
[null,{"$f":"FirstPartDegrees2!$A133","v":63},"","","",""]
[null,{"$f":"FirstPartDegrees2!$A135","v":64},"","","",""]
[null,{"$f":"FirstPartDegrees2!$A137","v":65},"","","",""]
[null,{"$f":"FirstPartDegrees2!$A139","v":66},{"$f":"IF(INDIRECT(ADDRESS(B77+3,2,4,1,\"all\"))=\"\",\"\",INDIRECT(ADDRESS(B77+3,2,4,1,\"all\")))","v":""},"","",""]
[null,{"$f":"FirstPartDegrees2!$A141","v":67},{"$f":"IF(INDIRECT(ADDRESS(B78+3,2,4,1,\"all\"))=\"\",\"\",INDIRECT(ADDRESS(B78+3,2,4,1,\"all\")))","v":""},"","",""]
[null,{"$f":"FirstPartDegrees2!$A143","v":68},{"$f":"IF(INDIRECT(ADDRESS(B79+3,2,4,1,\"all\"))=\"\",\"\",INDIRECT(ADDRESS(B79+3,2,4,1,\"all\")))","v":""},"","",""]
[null,{"$f":"FirstPartDegrees2!$A145","v":69},{"$f":"IF(INDIRECT(ADDRESS(B80+3,2,4,1,\"all\"))=\"\",\"\",INDIRECT(ADDRESS(B80+3,2,4,1,\"all\")))","v":""},"","",""]
[null,{"$f":"FirstPartDegrees2!$A147","v":70},{"$f":"IF(INDIRECT(ADDRESS(B81+3,2,4,1,\"all\"))=\"\",\"\",INDIRECT(ADDRESS(B81+3,2,4,1,\"all\")))","v":""},"","",""]

{"sheet":"Basic","index":6,"n_rows":30,"n_cols":11,"rows_kept":30,"cut":false,"hidden":true,"merged":[]}
["العام الدراسي",{"$f":"INDEX(H1:H4,C1)","v":"2020-2019"},2,null,null,"منطقة العاصمة التعليمية","4-1","2019-2018",4,"غياب",20]
["المنطقة التعليمية",{"$f":"INDEX(F1:F7,C2)","v":"منطقة مبارك الكبير التعليمية"},6,null,null,"منطقة حولي التعليمية","4-2","2020-2019",3,"عزوف عن تطبيق ورقة العمل",19]
["المدرسة","",null,null,null,"منطقة الفروانية التعليمية","4-3","2021-2020",2,"قليل المشاركة في الانشطة الصفية",18]
["المعلم","",null,null,null,"منطقة الاحمدي التعليمية","4-4","2022-2020",1,"يحتاج إلى تعزيز في السلوكيات التربوية",17]
["الصف",{"$f":"INDEX(G1:G30,C5)","v":"4-1"},1,null,null,"منطقة الجهراء التعليمية","4-5",null,null,"لا يحضر ادواته ( الكتاب ، .... ) ",16]
["الفصل","الرابع",null,null,null,"منطقة مبارك الكبير التعليمية","4-6",null,null,"أخرى",15]
["الفصل الدراسي","الأول",null,null,null,"إدارة التعليم الخاص","4-7",null,null,null,14]
[null,{"$f":"CONCATENATE(\"العام الدراسي : \" & B1)","v":"العام الدراسي : 2020-2019"},null,null,null,null,"4-8",null,null,null,13]
[null,{"$f":"CONCATENATE(\"مدرسة : \" & B3)","v":"مدرسة : "},null,null,null,null,"4-9",null,null,null,12]
[null,{"$f":"CONCATENATE(\"الفصل الدراسي \" & B7)","v":"الفصل الدراسي الأول"},null,null,null,null,"4-10",null,null,null,11]
[null,{"$f":"CONCATENATE(\"الفصل \" & B5)","v":"الفصل 4-1"},null,null,null,null,"4-11",null,null,null,10]
[null,{"$f":"CONCATENATE(\"اسم المعلم : \" & B4)","v":"اسم المعلم : "},null,null,null,null,"4-12",null,null,null,9]
[null,null,null,null,null,null,"4-13",null,null,null,8]
[null,null,null,null,null,null,"4-14",null,null,null,7]
[null,null,null,null,null,null,"4-15",null,null,null,6]
[null,null,null,null,null,null,"4-16",null,null,null,5]
[null,null,null,null,null,null,"4-17",null,null,null,4]
[null,null,null,null,null,null,"4-18",null,null,null,3]
[null,null,null,null,null,null,"4-19",null,null,null,2]
[null,null,null,null,null,null,"4-20",null,null,null,1]
[null,null,null,null,null,null,"4-21",null,null,null,0]
[null,null,null,null,null,null,"4-22"]
[null,null,null,null,null,null,"4-23"]
[null,null,null,null,null,null,"4-24"]
[null,null,null,null,null,null,"4-25"]
[null,null,null,null,null,null,"4-26"]
[null,null,null,null,null,null,"4-27"]
[null,null,null,null,null,null,"4-28"]
[null,null,null,null,null,null,"4-29"]
[null,null,"cxxcxcxc",null,null,null,"4-30"]

{"sheet":"all","index":7,"n_rows":73,"n_cols":47,"rows_kept":73,"cut":false,"hidden":true,"merged":[[1,23,2,23],[1,18,2,18],[1,19,2,19],[1,20,2,20],[1,21,2,21],[1,22,2,22]]}
["م","اسم الطالب","صف الدرجة","1-1","1-2","1-3","1-4","2-1","2-2","2-3","2-4","3-1","3-2","3-3","3-4",null,"*","40","20","60","20","20","40","100",null,"1-1","1-2","1-3","1-4","2-1","2-1","2-2","2-2","2-3","2-3","2-4","2-4","3-1","3-1","3-2","3-2","3-3","3-4",null,"مشروع","مشروع1","مشروع2"]
[null,null,"الجزء",null,null,null,null,null,null,null,null,null,null,null,null,null,null,"11","مشروع","المجموع","مشروع1","مشروع2","المجموع","الإجمالي",null,"2","2","1","2","2","2","1","2","2","2","2","2","1","2","1","2","1",null,null,"1","2","2"]
[null,"A","العمود",null,null,null,null,null,null,null,null,null,null,null,null,null,null,"هام",null,null,null,null,null,null,null,"L","H","E","J","F","G","F","M","D","K","C","O","C","N","D","E","G",null,null,"H","I","P"]
[1,{"$f":"IF(INDIRECT(\"'\"&\"studentName\"&\"'!\"&B$3&$A4)=0,\"\",INDIRECT(\"'\"&\"studentName\"&\"'!\"&B$3&$A4))","v":""},9,{"$f":"SUM(Z4)","v":0},{"$f":"SUM(AA4)","v":0},{"$f":"SUM(AB4)","v":0},{"$f":"SUM(AC4)","v":0},{"$f":"ROUNDUP(SUM(AD4:AE4)/2,0)","v":0},{"$f":"ROUNDUP(SUM(AF4:AG4)/2,0)","v":0},{"$f":"ROUNDUP(SUM(AH4:AI4)/2,0)","v":0},{"$f":"ROUNDUP(SUM(AJ4:AK4)/2,0)","v":0},{"$f":"ROUNDUP(SUM(AL4:AM4)/2,0)","v":0},{"$f":"ROUNDUP(SUM(AN4:AO4)/2,0)","v":0},{"$f":"SUM(AP4)","v":0},null,null,{"$f":"IF(SUM(D4:O4)=0,\"\",SUM(D4:O4))","v":""},{"$f":"IF(Q4=\"\",\"\",ROUNDUP(40*Q4/(4*11),0))","v":""},{"$f":"IF(AS4=0,\"\",AS4)","v":""},{"$f":"IF(R4=\"\",\"\",IF(S4=\"\",\"\",R4+S4))","v":""},{"$f":"IF(AT4=0,\"\",AT4)","v":""},{"$f":"IF(AU4=0,\"\",AU4)","v":""},{"$f":"IF(U4=\"\",\"\",IF(V4=\"\",\"\",U4+V4))","v":""},{"$f":"IF(T4=\"\",\"\",IF(W4=\"\",\"\",T4+W4))","v":""},null,{"$f":"INDIRECT(\"'\"&\"FirstPartDegrees\"&Z$2&\"'!\"&Z$3&$C4)","v":0},{"$f":"INDIRECT(\"'\"&\"FirstPartDegrees\"&AA$2&\"'!\"&AA$3&$C4)","v":0},0,0,0,0,0,0,0,0,0,0,0,0,0,0,0,null,null,{"$f":"INDIRECT(\"'\"&\"FirstPartDegrees\"&AS$2&\"'!\"&AS$3&$C4)","v":0},0,0]
[2,{"$f":"IF(INDIRECT(\"'\"&\"studentName\"&\"'!\"&B$3&$A5)=0,\"\",INDIRECT(\"'\"&\"studentName\"&\"'!\"&B$3&$A5))","v":""},11,{"$f":"SUM(Z5)","v":0},{"$f":"SUM(AA5)","v":0},{"$f":"SUM(AB5)","v":0},{"$f":"SUM(AC5)","v":0},{"$f":"ROUNDUP(SUM(AD5:AE5)/2,0)","v":0},{"$f":"ROUNDUP(SUM(AF5:AG5)/2,0)","v":0},{"$f":"ROUNDUP(SUM(AH5:AI5)/2,0)","v":0},{"$f":"ROUNDUP(SUM(AJ5:AK5)/2,0)","v":0},{"$f":"ROUNDUP(SUM(AL5:AM5)/2,0)","v":0},{"$f":"ROUNDUP(SUM(AN5:AO5)/2,0)","v":0},{"$f":"SUM(AP5)","v":0},null,null,{"$f":"IF(SUM(D5:O5)=0,\"\",SUM(D5:O5))","v":""},{"$f":"IF(Q5=\"\",\"\",ROUNDUP(40*Q5/(4*11),0))","v":""},{"$f":"IF(AS5=0,\"\",AS5)","v":""},{"$f":"IF(R5=\"\",\"\",IF(S5=\"\",\"\",R5+S5))","v":""},{"$f":"IF(AT5=0,\"\",AT5)","v":""},{"$f":"IF(AU5=0,\"\",AU5)","v":""},{"$f":"IF(U5=\"\",\"\",IF(V5=\"\",\"\",U5+V5))","v":""},{"$f":"IF(T5=\"\",\"\",IF(W5=\"\",\"\",T5+W5))","v":""},null,{"$f":"INDIRECT(\"'\"&\"FirstPartDegrees\"&Z$2&\"'!\"&Z$3&$C5)","v":0},0,0,0,0,0,0,0,0,0,0,0,0,0,0,0,{"$f":"INDIRECT(\"'\"&\"FirstPartDegrees\"&AP$2&\"'!\"&AP$3&$C5)","v":0},null,null,0,0,0]
[3,"",13,0,0,0,0,0,0,0,0,0,0,0,null,null,"","","","","","","","",null,0,0,0,0,0,0,0,0,0,0,0,0,0,0,0,0,0,null,null,0,0,0]
[4,"",15,0,0,0,0,0,0,0,0,0,0,0,null,null,"","","","","","","","",null,0,0,0,0,0,0,0,0,0,0,0,0,0,0,0,0,0,null,null,0,0,0]
[5,"",17,0,0,0,0,0,0,0,0,0,0,0,null,null,"","","","","","","","",null,0,0,0,0,0,0,0,0,0,0,0,0,0,0,0,0,0,null,null,0,0,0]
[6,"",19,0,0,0,0,0,0,0,0,0,0,0,null,null,"","","","","","","","",null,0,0,0,0,0,0,0,0,0,0,0,0,0,0,0,0,0,null,null,0,0,0]
[7,"",21,0,0,0,0,0,0,0,0,0,0,0,null,null,"","","","","","","","",null,0,0,0,0,0,0,0,0,0,0,0,0,0,0,0,0,0,null,null,0,0,0]
[8,"",23,0,0,0,0,0,0,0,0,0,0,0,null,null,"","","","","","","","",null,0,0,0,0,0,0,0,0,0,0,0,0,0,0,0,0,0,null,null,0,0,0]
[9,"",25,0,0,0,0,0,0,0,0,0,0,0,null,null,"","","","","","","","",null,0,0,0,0,0,0,0,0,0,0,0,0,0,0,0,0,0,null,null,0,0,0]
[10,"",27,0,0,0,0,0,0,0,0,0,0,0,null,null,"","","","","","","","",null,0,0,0,0,0,0,0,0,0,0,0,0,0,0,0,0,0,null,null,0,0,0]
[11,"",29,0,0,0,0,0,0,0,0,0,0,0,null,null,"","","","","","","","",null,0,0,0,0,0,0,0,0,0,0,0,0,0,0,0,0,0,null,null,0,0,0]
[12,"",31,0,0,0,0,0,0,0,0,0,0,0,null,null,"","","","","","","","",null,0,0,0,0,0,0,0,0,0,0,0,0,0,0,0,0,0,null,null,0,0,0]
[13,"",33,0,0,0,0,0,0,0,0,0,0,0,null,null,"","","","","","","","",null,0,0,0,0,0,0,0,0,0,0,0,0,0,0,0,0,0,null,null,0,0,0]
[14,"",35,0,0,0,0,0,0,0,0,0,0,0,null,null,"","","","","","","","",null,0,0,0,0,0,0,0,0,0,0,0,0,0,0,0,0,0,null,null,0,0,0]
[15,"",37,0,0,0,0,0,0,0,0,0,0,0,null,null,"","","","","","","","",null,0,0,0,0,0,0,0,0,0,0,0,0,0,0,0,0,0,null,null,0,0,0]
[16,"",39,0,0,0,0,0,0,0,0,0,0,0,null,null,"","","","","","","","",null,0,0,0,0,0,0,0,0,0,0,0,0,0,0,0,0,0,null,null,0,0,0]
[17,"",41,0,0,0,0,0,0,0,0,0,0,0,null,null,"","","","","","","","",null,0,0,0,0,0,0,0,0,0,0,0,0,0,0,0,{"$f":"INDIRECT(\"'\"&\"FirstPartDegrees\"&AO$2&\"'!\"&AO$3&$C20)","v":0},0,null,null,{"$f":"INDIRECT(\"'\"&\"FirstPartDegrees\"&AS$2&\"'!\"&AS$3&$C20)","v":0},0,0]
[18,"",43,0,0,0,0,0,0,0,0,0,0,0,null,null,"","","","","","","","",null,{"$f":"INDIRECT(\"'\"&\"FirstPartDegrees\"&Z$2&\"'!\"&Z$3&$C21)","v":0},0,0,0,0,0,0,0,0,0,0,0,0,0,0,0,0,null,null,0,0,0]
[19,"",45,0,0,0,0,0,0,0,0,0,0,0,null,null,"","","","","","","","",null,0,0,0,0,0,0,0,0,0,0,0,0,0,0,0,0,0,null,null,0,0,0]
[20,"",47,0,0,0,0,0,0,0,0,0,0,0,null,null,"","","","","","","","",null,0,0,0,0,0,0,0,0,0,0,0,0,0,0,0,0,0,null,null,0,0,0]
[21,"",49,0,0,0,0,0,0,0,0,0,0,0,null,null,"","","","","","","","",null,0,0,0,0,0,0,0,0,0,0,0,0,0,0,0,0,0,null,null,0,0,0]
[22,"",51,0,0,0,0,0,0,0,0,0,0,0,null,null,"","","","","","","","",null,0,0,0,0,0,0,0,0,0,0,0,0,0,0,0,0,0,null,null,0,0,0]
[23,"",53,0,0,0,0,0,0,0,0,0,0,0,null,null,"","","","","","","","",null,0,0,0,0,0,0,0,0,0,0,0,0,0,0,0,0,0,null,null,0,0,0]
[24,"",55,0,0,0,0,0,0,0,0,0,0,0,null,null,"","","","","","","","",null,0,0,0,0,0,0,0,0,0,0,0,0,0,0,0,0,0,null,null,0,0,0]
[25,"",57,0,0,0,0,0,0,0,0,0,0,0,null,null,"","","","","","","","",null,0,0,0,0,0,0,0,0,0,0,0,0,0,0,0,0,0,null,null,0,0,0]
[26,"",59,0,0,0,0,0,0,0,0,0,0,0,null,null,"","","","","","","","",null,0,0,0,0,0,0,0,0,0,0,0,0,0,0,0,0,0,null,null,0,0,0]
[27,"",61,0,0,0,0,0,0,0,0,0,0,0,null,null,"","","","","","","","",null,0,0,0,0,0,0,0,0,0,0,0,0,0,0,0,0,0,null,null,0,0,0]
[28,"",63,0,0,0,0,0,0,0,0,0,0,0,null,null,"","","","","","","","",null,0,0,0,0,0,0,0,0,0,0,0,0,0,0,0,0,0,null,null,0,0,0]
[29,"",65,0,0,0,0,0,0,0,0,0,0,0,null,null,"","","","","","","","",null,0,0,0,0,0,0,0,0,0,0,0,0,0,0,0,0,0,null,null,0,0,0]
[30,"",67,0,0,0,0,0,0,0,0,0,0,0,null,null,"","","","","","","","",null,0,0,0,0,0,0,0,0,0,0,0,0,0,0,0,0,0,null,null,0,0,0]
[31,"",69,0,0,0,0,0,0,0,0,0,0,0,null,null,"","","","","","","","",null,0,0,0,0,0,0,0,0,0,0,0,0,0,0,0,0,0,null,null,0,0,0]
[32,"",71,0,0,0,0,0,0,0,0,0,0,0,null,null,"","","","","","","","",null,0,0,0,0,0,0,0,0,0,0,0,0,0,0,0,0,0,null,null,0,0,0]
[33,"",73,0,0,0,0,0,0,0,0,0,0,0,null,null,"","","","","","","","",null,0,0,0,0,0,0,0,0,0,0,0,0,0,0,0,0,0,null,null,0,0,0]
[34,"",75,0,0,0,0,0,0,0,0,0,0,0,null,null,"","","","","","","","",null,0,0,0,0,0,0,0,0,0,0,0,0,0,0,0,0,0,null,null,0,0,0]
[35,"",77,0,0,0,0,0,0,0,0,0,0,0,null,null,"","","","","","","","",null,{"$f":"INDIRECT(\"'\"&\"FirstPartDegrees\"&Z$2&\"'!\"&Z$3&$C38)","v":0},0,0,0,0,0,0,0,0,0,0,0,0,0,0,0,0,null,null,0,0,0]
[36,"",79,0,0,0,0,0,0,0,0,0,0,0,null,null,"","","","","","","","",null,0,0,0,0,0,0,0,0,0,0,0,0,0,0,0,0,0,null,null,0,0,0]
[37,"",81,0,0,0,0,0,0,0,0,0,0,0,null,null,"","","","","","","","",null,0,0,0,0,0,0,0,0,0,0,0,0,0,0,0,0,0,null,null,0,0,0]
[38,"",83,0,0,0,0,0,0,0,0,0,0,0,null,null,"","","","","","","","",null,0,0,0,0,0,0,0,0,0,0,0,0,0,0,0,0,0,null,null,0,0,0]
[39,"",85,0,0,0,0,0,0,0,0,0,0,0,null,null,"","","","","","","","",null,0,0,0,0,0,0,0,0,0,0,0,0,0,0,0,0,0,null,null,0,0,0]
[40,"",87,0,0,0,0,0,0,0,0,0,0,0,null,null,"","","","","","","","",null,0,0,0,0,0,0,0,0,0,0,0,0,0,0,0,0,0,null,null,0,0,0]
[41,"",89,{"$f":"SUM(Z44)","v":0},{"$f":"SUM(AA44)","v":0},{"$f":"SUM(AB44)","v":0},{"$f":"SUM(AC44)","v":0},{"$f":"ROUNDUP(SUM(AD44:AE44)/2,0)","v":0},{"$f":"ROUNDUP(SUM(AF44:AG44)/2,0)","v":0},{"$f":"ROUNDUP(SUM(AH44:AI44)/2,0)","v":0},{"$f":"ROUNDUP(SUM(AJ44:AK44)/2,0)","v":0},{"$f":"ROUNDUP(SUM(AL44:AM44)/2,0)","v":0},{"$f":"ROUNDUP(SUM(AN44:AO44)/2,0)","v":0},{"$f":"SUM(AP44)","v":0},null,null,{"$f":"IF(SUM(D44:O44)=0,\"\",SUM(D44:O44))","v":""},{"$f":"IF(Q44=\"\",\"\",ROUNDUP(40*Q44/(4*11),0))","v":""},{"$f":"IF(AS44=0,\"\",AS44)","v":""},{"$f":"IF(R44=\"\",\"\",IF(S44=\"\",\"\",R44+S44))","v":""},{"$f":"IF(AT44=0,\"\",AT44)","v":""},{"$f":"IF(AU44=0,\"\",AU44)","v":""},{"$f":"IF(U44=\"\",\"\",IF(V44=\"\",\"\",U44+V44))","v":""},{"$f":"IF(T44=\"\",\"\",IF(W44=\"\",\"\",T44+W44))","v":""},null,0,0,0,0,0,0,0,0,0,0,0,0,0,0,0,0,0,null,null,0,0,0]
[42,"",91,0,0,0,0,0,0,0,0,0,0,0,null,null,"","","","","","","","",null,0,0,0,0,0,0,0,0,0,0,0,0,0,0,0,0,0,null,null,{"$f":"INDIRECT(\"'\"&\"FirstPartDegrees\"&AS$2&\"'!\"&AS$3&$C45)","v":0},0,0]
[43,"",93,0,0,0,0,0,0,0,0,0,0,0,null,null,"","","","","","","","",null,0,0,0,0,0,0,0,0,0,0,0,0,0,0,0,0,0,null,null,0,0,0]
[44,"",95,0,0,0,0,0,0,0,0,0,0,0,null,null,"","","","","","","","",null,0,0,0,0,0,0,0,0,0,0,0,0,0,0,0,0,0,null,null,0,0,0]
[45,"",97,0,0,0,0,0,0,0,0,0,0,0,null,null,"","","","","","","","",null,0,0,0,0,0,0,0,0,0,0,0,0,0,0,0,0,0,null,null,0,0,0]
[46,"",99,0,0,0,0,0,0,0,0,0,0,0,null,null,"","","","","","","","",null,0,0,0,0,0,0,0,0,0,0,0,0,0,0,0,0,0,null,null,0,0,0]
[47,"",101,0,0,0,0,0,0,0,0,0,0,0,null,null,"","","","","","","","",null,0,0,0,0,0,0,0,0,0,0,0,0,0,0,0,0,0,null,null,0,0,0]
[48,"",103,0,0,0,0,0,0,0,0,0,0,0,null,null,"","","","","","","","",null,0,0,0,0,0,0,0,0,0,0,0,0,0,0,0,0,0,null,null,0,0,0]
[49,"",105,0,0,0,0,0,0,0,0,0,0,0,null,null,"","","","","","","","",null,0,0,0,0,0,0,0,0,0,0,0,0,0,0,0,0,0,null,null,0,0,0]
[50,"",107,0,0,0,0,0,0,0,0,0,0,0,null,null,"","","","","","","","",null,0,0,0,0,0,0,0,0,0,0,0,0,0,0,0,0,0,null,null,0,0,0]
[51,"",109,0,0,0,0,0,0,0,0,0,0,0,null,null,"","","","","","","","",null,{"$f":"INDIRECT(\"'\"&\"FirstPartDegrees\"&Z$2&\"'!\"&Z$3&$C54)","v":0},0,0,0,0,0,0,0,0,0,0,0,0,0,0,0,0,null,null,0,0,0]
[52,"",111,0,0,0,0,0,0,0,0,0,0,0,null,null,"","","","","","","","",null,0,0,0,0,0,0,0,0,0,0,0,0,0,0,0,0,0,null,null,0,0,0]
[53,"",113,0,0,0,0,0,0,0,0,0,0,0,null,null,"","","","","","","","",null,0,0,0,0,0,0,0,0,0,0,0,0,0,0,0,0,0,null,null,0,0,0]
[54,"",115,0,0,0,0,0,0,0,0,0,0,0,null,null,"","","","","","","","",null,0,0,0,0,0,0,0,0,0,0,0,0,0,0,0,0,0,null,null,0,0,0]
[55,"",117,0,0,0,0,0,0,0,0,0,0,0,null,null,"","","","","","","","",null,0,0,0,0,0,0,0,0,0,0,0,0,0,0,0,0,0,null,null,0,0,0]
[56,"",119,0,0,0,0,0,0,0,0,0,0,0,null,null,"","","","","","","","",null,0,0,0,0,0,0,0,0,0,0,0,0,0,0,0,0,0,null,null,0,0,0]
[57,"",121,0,0,0,0,0,0,0,0,0,0,0,null,null,"","","","","","","","",null,0,0,0,0,0,0,0,0,0,0,0,0,0,0,0,0,0,null,null,0,0,0]
[58,"",123,0,0,0,0,0,0,0,0,0,0,0,null,null,"","","","","","","","",null,0,0,0,0,0,0,0,0,0,0,0,0,0,0,0,0,0,null,null,0,0,0]
[59,"",125,0,0,0,0,0,0,0,0,0,0,0,null,null,"","","","","","","","",null,0,0,0,0,0,0,0,0,0,0,0,0,0,0,0,0,0,null,null,0,0,0]
[60,"",127,0,0,0,0,0,0,0,0,0,0,0,null,null,"","","","","","","","",null,0,0,0,0,0,0,0,0,0,0,0,0,0,0,0,0,0,null,null,0,0,0]
[61,"",129,0,0,0,0,0,0,0,0,0,0,0,null,null,"","","","","","","","",null,0,0,0,0,0,0,0,0,0,0,0,0,0,0,0,0,0,null,null,0,0,0]
[62,"",131,0,0,0,0,0,0,0,0,0,0,0,null,null,"","","","","","","","",null,0,0,0,0,0,0,0,0,0,0,0,0,0,0,0,0,0,null,null,0,0,0]
[63,"",133,0,0,0,0,0,0,0,0,0,0,0,null,null,"","","","","","","","",null,0,0,0,0,0,0,0,0,0,0,0,0,0,0,0,0,0,null,null,0,0,0]
[64,"",135,0,0,0,0,0,0,0,0,0,0,0,null,null,"","","","","","","","",null,0,0,0,0,0,0,0,0,0,0,0,0,0,0,0,0,0,null,null,0,0,0]
[65,"",137,0,0,0,0,0,0,0,0,0,0,0,null,null,"","","","","","","","",null,0,0,0,0,0,0,0,0,0,0,0,0,0,0,0,0,0,null,null,0,0,0]
[66,{"$f":"IF(INDIRECT(\"'\"&\"studentName\"&\"'!\"&B$3&$A69)=0,\"\",INDIRECT(\"'\"&\"studentName\"&\"'!\"&B$3&$A69))","v":""},139,0,0,0,0,0,0,0,0,0,0,0,null,null,"","","","","","","","",null,0,0,0,0,0,0,0,0,0,0,0,0,0,0,0,0,0,null,null,0,0,0]
[67,{"$f":"IF(INDIRECT(\"'\"&\"studentName\"&\"'!\"&B$3&$A70)=0,\"\",INDIRECT(\"'\"&\"studentName\"&\"'!\"&B$3&$A70))","v":""},141,0,0,0,0,0,0,0,0,0,0,0,null,null,"","","","","","","","",null,0,0,0,0,0,0,0,0,0,0,0,0,0,0,0,{"$f":"INDIRECT(\"'\"&\"FirstPartDegrees\"&AO$2&\"'!\"&AO$3&$C70)","v":0},0,null,null,0,0,0]
[68,{"$f":"IF(INDIRECT(\"'\"&\"studentName\"&\"'!\"&B$3&$A71)=0,\"\",INDIRECT(\"'\"&\"studentName\"&\"'!\"&B$3&$A71))","v":""},143,0,0,0,0,0,0,0,0,0,0,0,null,null,"","","","","","","","",null,{"$f":"INDIRECT(\"'\"&\"FirstPartDegrees\"&Z$2&\"'!\"&Z$3&$C71)","v":0},0,0,0,0,0,0,0,0,0,0,0,0,0,0,0,0,null,null,0,0,0]
[69,{"$f":"IF(INDIRECT(\"'\"&\"studentName\"&\"'!\"&B$3&$A72)=0,\"\",INDIRECT(\"'\"&\"studentName\"&\"'!\"&B$3&$A72))","v":""},145,0,0,0,0,0,0,0,0,0,0,0,null,null,"","","","","","","","",null,0,0,0,0,0,0,0,0,0,0,0,0,0,0,0,0,0,null,null,0,0,0]
[70,{"$f":"IF(INDIRECT(\"'\"&\"studentName\"&\"'!\"&B$3&$A73)=0,\"\",INDIRECT(\"'\"&\"studentName\"&\"'!\"&B$3&$A73))","v":""},147,0,0,0,0,0,0,0,0,0,0,0,null,null,"","","","","","","","",null,0,0,0,0,0,0,0,0,0,0,0,0,0,0,0,0,0,null,null,0,0,0]